BEGIN:VCALENDAR
VERSION:2.0
PRODID:-//Buddhist Society Of Victoria (BSV) - ECPv6.15.13//NONSGML v1.0//EN
CALSCALE:GREGORIAN
METHOD:PUBLISH
X-WR-CALNAME:Buddhist Society Of Victoria (BSV)
X-ORIGINAL-URL:https://www.bsv.net.au
X-WR-CALDESC:Events for Buddhist Society Of Victoria (BSV)
REFRESH-INTERVAL;VALUE=DURATION:PT1H
X-Robots-Tag:noindex
X-PUBLISHED-TTL:PT1H
BEGIN:VTIMEZONE
TZID:UTC
BEGIN:STANDARD
TZOFFSETFROM:+0000
TZOFFSETTO:+0000
TZNAME:UTC
DTSTART:20190101T000000
END:STANDARD
END:VTIMEZONE
BEGIN:VTIMEZONE
TZID:Australia/Melbourne
BEGIN:STANDARD
TZOFFSETFROM:+1100
TZOFFSETTO:+1000
TZNAME:AEST
DTSTART:20190406T160000
END:STANDARD
BEGIN:DAYLIGHT
TZOFFSETFROM:+1000
TZOFFSETTO:+1100
TZNAME:AEDT
DTSTART:20191005T160000
END:DAYLIGHT
BEGIN:STANDARD
TZOFFSETFROM:+1100
TZOFFSETTO:+1000
TZNAME:AEST
DTSTART:20200404T160000
END:STANDARD
BEGIN:DAYLIGHT
TZOFFSETFROM:+1000
TZOFFSETTO:+1100
TZNAME:AEDT
DTSTART:20201003T160000
END:DAYLIGHT
BEGIN:STANDARD
TZOFFSETFROM:+1100
TZOFFSETTO:+1000
TZNAME:AEST
DTSTART:20210403T160000
END:STANDARD
BEGIN:DAYLIGHT
TZOFFSETFROM:+1000
TZOFFSETTO:+1100
TZNAME:AEDT
DTSTART:20211002T160000
END:DAYLIGHT
END:VTIMEZONE
BEGIN:VEVENT
DTSTART;TZID=UTC:20200803T193000
DTEND;TZID=UTC:20200803T210000
DTSTAMP:20260425T135126
CREATED:20200716T101212Z
LAST-MODIFIED:20200726T111223Z
UID:10000640-1596483000-1596488400@www.bsv.net.au
SUMMARY:Monday Night Meditation (Monastic Led) | Bhante Aranavihari
DESCRIPTION:Meditation is a calm approach of healing that increase productivity\, replenish attention\, solidify memories and encourage creativity. Mindfulness training has become more popular than ever in the last decade as a strategy to relieve stress\, anxiety and depression. Join us on Weekly Monday Night Meditation in Malvern East Buddhist Society of Victoria. \n  \n﻿﻿﻿﻿﻿﻿﻿﻿﻿﻿﻿﻿﻿\nMeditation is a calm approach of healing that increase productivity\, replenish attention\, solidify memories and encourage creativity. Mindfulness training has become more popular than ever in the last decade as a strategy to relieve stress\, anxiety and depression. Join us on online\, Live Dhamma Teaching .
URL:https://www.bsv.net.au/events/monday-night-meditation-monastic-led-bhante-chunda-1-2/
LOCATION:VIC
CATEGORIES:Dhamma Teaching Programs,Upcoming,Weekly
ATTACH;FMTTYPE=image/png:https://www.bsv.net.au/wp-content/uploads/2020/03/o-dhamma-talks.png
END:VEVENT
BEGIN:VEVENT
DTSTART;TZID=Australia/Melbourne:20200802T090000
DTEND;TZID=Australia/Melbourne:20200802T103000
DTSTAMP:20260425T135126
CREATED:20200716T101149Z
LAST-MODIFIED:20200726T111224Z
UID:10000624-1596358800-1596364200@www.bsv.net.au
SUMMARY:Sunday Dhamma Talk (Online) | Bhante Aranavihari
DESCRIPTION:  \n﻿﻿﻿﻿﻿﻿﻿﻿﻿﻿﻿﻿﻿﻿﻿﻿﻿﻿
URL:https://www.bsv.net.au/events/sunday-dhamma-talk-online-bhante-chunda-1/
LOCATION:VIC
CATEGORIES:Dhamma Teaching Programs,Upcoming,Weekly
ATTACH;FMTTYPE=image/png:https://www.bsv.net.au/wp-content/uploads/2020/03/o-guided-talks.png
END:VEVENT
BEGIN:VEVENT
DTSTART;TZID=UTC:20200727T193000
DTEND;TZID=UTC:20200727T210000
DTSTAMP:20260425T135126
CREATED:20200707T102135Z
LAST-MODIFIED:20200726T111138Z
UID:10000623-1595878200-1595883600@www.bsv.net.au
SUMMARY:Monday Night Meditation (Monastic Led) | Bhante Cunda
DESCRIPTION:Meditation is a calm approach of healing that increase productivity\, replenish attention\, solidify memories and encourage creativity. Mindfulness training has become more popular than ever in the last decade as a strategy to relieve stress\, anxiety and depression. Join us on Weekly Monday Night Meditation in Malvern East Buddhist Society of Victoria. \n  \n﻿﻿﻿﻿﻿﻿﻿﻿﻿﻿﻿﻿\nMeditation is a calm approach of healing that increase productivity\, replenish attention\, solidify memories and encourage creativity. Mindfulness training has become more popular than ever in the last decade as a strategy to relieve stress\, anxiety and depression. Join us on online\, Live Dhamma Teaching .
URL:https://www.bsv.net.au/events/monday-night-meditation-monastic-led-bhante-aranavihari/
LOCATION:VIC
CATEGORIES:Dhamma Teaching Programs,Upcoming,Weekly
ATTACH;FMTTYPE=image/png:https://www.bsv.net.au/wp-content/uploads/2020/03/o-dhamma-talks.png
END:VEVENT
BEGIN:VEVENT
DTSTART;TZID=Australia/Melbourne:20200726T090000
DTEND;TZID=Australia/Melbourne:20200726T103000
DTSTAMP:20260425T135126
CREATED:20200707T102126Z
LAST-MODIFIED:20200726T111130Z
UID:10000622-1595754000-1595759400@www.bsv.net.au
SUMMARY:Sunday Dhamma Talk (Online) | Bhante Cunda
DESCRIPTION:  \n﻿﻿﻿﻿﻿﻿﻿﻿﻿﻿﻿﻿﻿﻿﻿﻿
URL:https://www.bsv.net.au/events/sunday-dhamma-talk-online-bhante-aranavihari/
LOCATION:VIC
CATEGORIES:Dhamma Teaching Programs,Upcoming,Weekly
ATTACH;FMTTYPE=image/png:https://www.bsv.net.au/wp-content/uploads/2020/03/o-guided-talks.png
END:VEVENT
BEGIN:VEVENT
DTSTART;TZID=UTC:20200720T193000
DTEND;TZID=UTC:20200720T210000
DTSTAMP:20260425T135126
CREATED:20200821T002459Z
LAST-MODIFIED:20200821T002459Z
UID:10000564-1595273400-1595278800@www.bsv.net.au
SUMMARY:Monday Night Meditation | Ajahn Nissarano
DESCRIPTION:Meditation is a calm approach of healing that increase productivity\, replenish attention\, solidify memories and encourage creativity. Mindfulness training has become more popular than ever in the last decade as a strategy to relieve stress\, anxiety and depression. Join us on Weekly Monday Night Meditation in Malvern East Buddhist Society of Victoria. \n  \n﻿﻿﻿﻿﻿﻿﻿﻿﻿﻿\nMeditation is a calm approach of healing that increase productivity\, replenish attention\, solidify memories and encourage creativity. Mindfulness training has become more popular than ever in the last decade as a strategy to relieve stress\, anxiety and depression. Join us on online\, Live Dhamma Teaching .
URL:https://www.bsv.net.au/events/monday-night-meditation-ajahn-nissarano-2/
LOCATION:VIC
CATEGORIES:Dhamma Teaching Programs,Upcoming,Weekly
ATTACH;FMTTYPE=image/png:https://www.bsv.net.au/wp-content/uploads/2020/03/o-dhamma-talks.png
END:VEVENT
BEGIN:VEVENT
DTSTART;TZID=Australia/Melbourne:20200719T090000
DTEND;TZID=Australia/Melbourne:20200719T103000
DTSTAMP:20260425T135126
CREATED:20200630T102010Z
LAST-MODIFIED:20200630T102010Z
UID:10000620-1595149200-1595154600@www.bsv.net.au
SUMMARY:Sunday Dhamma Talk (Online) | Ajahn Nissarano
DESCRIPTION:  \n﻿﻿﻿﻿﻿﻿﻿﻿﻿﻿﻿﻿﻿
URL:https://www.bsv.net.au/events/sunday-dhamma-talk-online-ajahn-nissarano/
LOCATION:VIC
CATEGORIES:Dhamma Teaching Programs,Upcoming,Weekly
ATTACH;FMTTYPE=image/png:https://www.bsv.net.au/wp-content/uploads/2020/03/o-guided-talks.png
END:VEVENT
BEGIN:VEVENT
DTSTART;TZID=UTC:20200713T193000
DTEND;TZID=UTC:20200713T210000
DTSTAMP:20260425T135126
CREATED:20200623T105039Z
LAST-MODIFIED:20200623T105420Z
UID:10000618-1594668600-1594674000@www.bsv.net.au
SUMMARY:Monday Night Meditation (Monastic Led)
DESCRIPTION:Meditation is a calm approach of healing that increase productivity\, replenish attention\, solidify memories and encourage creativity. Mindfulness training has become more popular than ever in the last decade as a strategy to relieve stress\, anxiety and depression. Join us on Weekly Monday Night Meditation in Malvern East Buddhist Society of Victoria. \n  \n﻿﻿﻿﻿﻿﻿﻿﻿﻿﻿﻿\nMeditation is a calm approach of healing that increase productivity\, replenish attention\, solidify memories and encourage creativity. Mindfulness training has become more popular than ever in the last decade as a strategy to relieve stress\, anxiety and depression. Join us on online\, Live Dhamma Teaching .
URL:https://www.bsv.net.au/events/monday-night-meditation-monastic-led-11/
LOCATION:VIC
CATEGORIES:Dhamma Teaching Programs,Upcoming,Weekly
ATTACH;FMTTYPE=image/png:https://www.bsv.net.au/wp-content/uploads/2020/03/o-dhamma-talks.png
END:VEVENT
BEGIN:VEVENT
DTSTART;TZID=Australia/Melbourne:20200712T090000
DTEND;TZID=Australia/Melbourne:20200712T103000
DTSTAMP:20260425T135126
CREATED:20200623T105043Z
LAST-MODIFIED:20200623T105358Z
UID:10000619-1594544400-1594549800@www.bsv.net.au
SUMMARY:Sunday Dhamma Talk (Online)
DESCRIPTION:  \n﻿﻿﻿﻿﻿﻿﻿﻿﻿﻿﻿﻿﻿﻿﻿
URL:https://www.bsv.net.au/events/sunday-dhamma-talk-online-10/
LOCATION:VIC
CATEGORIES:Dhamma Teaching Programs,Upcoming,Weekly
ATTACH;FMTTYPE=image/png:https://www.bsv.net.au/wp-content/uploads/2020/03/o-guided-talks.png
END:VEVENT
BEGIN:VEVENT
DTSTART;TZID=UTC:20200706T193000
DTEND;TZID=UTC:20200706T210000
DTSTAMP:20260425T135126
CREATED:20200623T104412Z
LAST-MODIFIED:20200623T104412Z
UID:10000615-1594063800-1594069200@www.bsv.net.au
SUMMARY:Monday Night Meditation (Monastic Led)
DESCRIPTION:Meditation is a calm approach of healing that increase productivity\, replenish attention\, solidify memories and encourage creativity. Mindfulness training has become more popular than ever in the last decade as a strategy to relieve stress\, anxiety and depression. Join us on Weekly Monday Night Meditation in Malvern East Buddhist Society of Victoria. \n  \n﻿﻿﻿﻿﻿﻿﻿﻿﻿﻿\nMeditation is a calm approach of healing that increase productivity\, replenish attention\, solidify memories and encourage creativity. Mindfulness training has become more popular than ever in the last decade as a strategy to relieve stress\, anxiety and depression. Join us on online\, Live Dhamma Teaching .
URL:https://www.bsv.net.au/events/monday-night-meditation-monastic-led-10/
LOCATION:VIC
CATEGORIES:Dhamma Teaching Programs,Upcoming,Weekly
ATTACH;FMTTYPE=image/png:https://www.bsv.net.au/wp-content/uploads/2020/03/o-dhamma-talks.png
END:VEVENT
BEGIN:VEVENT
DTSTART;TZID=Australia/Melbourne:20200705T090000
DTEND;TZID=Australia/Melbourne:20200705T103000
DTSTAMP:20260425T135126
CREATED:20200623T104421Z
LAST-MODIFIED:20200623T104421Z
UID:10000617-1593939600-1593945000@www.bsv.net.au
SUMMARY:Sunday Dhamma Talk (Online)
DESCRIPTION:  \n﻿﻿﻿﻿﻿﻿﻿﻿﻿﻿﻿﻿﻿﻿
URL:https://www.bsv.net.au/events/sunday-dhamma-talk-online-9/
LOCATION:VIC
CATEGORIES:Dhamma Teaching Programs,Upcoming,Weekly
ATTACH;FMTTYPE=image/png:https://www.bsv.net.au/wp-content/uploads/2020/03/o-guided-talks.png
END:VEVENT
BEGIN:VEVENT
DTSTART;TZID=UTC:20200629T193000
DTEND;TZID=UTC:20200629T210000
DTSTAMP:20260425T135126
CREATED:20200612T100753Z
LAST-MODIFIED:20200612T100753Z
UID:10000613-1593459000-1593464400@www.bsv.net.au
SUMMARY:Monday Night Meditation (Monastic Led)
DESCRIPTION:Meditation is a calm approach of healing that increase productivity\, replenish attention\, solidify memories and encourage creativity. Mindfulness training has become more popular than ever in the last decade as a strategy to relieve stress\, anxiety and depression. Join us on Weekly Monday Night Meditation in Malvern East Buddhist Society of Victoria. \n  \n﻿﻿﻿﻿﻿﻿﻿﻿﻿﻿\nMeditation is a calm approach of healing that increase productivity\, replenish attention\, solidify memories and encourage creativity. Mindfulness training has become more popular than ever in the last decade as a strategy to relieve stress\, anxiety and depression. Join us on online\, Live Dhamma Teaching .
URL:https://www.bsv.net.au/events/monday-night-meditation-monastic-led-9/
LOCATION:VIC
CATEGORIES:Dhamma Teaching Programs,Upcoming,Weekly
ATTACH;FMTTYPE=image/png:https://www.bsv.net.au/wp-content/uploads/2020/03/o-dhamma-talks.png
END:VEVENT
BEGIN:VEVENT
DTSTART;TZID=Australia/Melbourne:20200628T090000
DTEND;TZID=Australia/Melbourne:20200628T103000
DTSTAMP:20260425T135126
CREATED:20200612T100703Z
LAST-MODIFIED:20200615T111151Z
UID:10000625-1593334800-1593340200@www.bsv.net.au
SUMMARY:Sunday Dhamma Talk (Online)
DESCRIPTION:  \n﻿﻿﻿﻿﻿﻿﻿﻿﻿﻿﻿﻿﻿
URL:https://www.bsv.net.au/events/sunday-dhamma-talk-online-8/
LOCATION:VIC
CATEGORIES:Dhamma Teaching Programs,Upcoming,Weekly
ATTACH;FMTTYPE=image/png:https://www.bsv.net.au/wp-content/uploads/2020/03/o-guided-talks.png
END:VEVENT
BEGIN:VEVENT
DTSTART;TZID=UTC:20200622T193000
DTEND;TZID=UTC:20200622T210000
DTSTAMP:20260425T135126
CREATED:20200612T100137Z
LAST-MODIFIED:20200615T111336Z
UID:10000627-1592854200-1592859600@www.bsv.net.au
SUMMARY:Monday Night Meditation | Ajahn Nissarano
DESCRIPTION:Meditation is a calm approach of healing that increase productivity\, replenish attention\, solidify memories and encourage creativity. Mindfulness training has become more popular than ever in the last decade as a strategy to relieve stress\, anxiety and depression. Join us on Weekly Monday Night Meditation in Malvern East Buddhist Society of Victoria. \n  \n﻿﻿﻿﻿﻿﻿﻿﻿﻿\nMeditation is a calm approach of healing that increase productivity\, replenish attention\, solidify memories and encourage creativity. Mindfulness training has become more popular than ever in the last decade as a strategy to relieve stress\, anxiety and depression. Join us on online\, Live Dhamma Teaching .
URL:https://www.bsv.net.au/events/monday-night-meditation-monastic-led-8/
LOCATION:VIC
CATEGORIES:Dhamma Teaching Programs,Upcoming,Weekly
ATTACH;FMTTYPE=image/png:https://www.bsv.net.au/wp-content/uploads/2020/03/o-dhamma-talks.png
END:VEVENT
BEGIN:VEVENT
DTSTART;TZID=Australia/Melbourne:20200621T090000
DTEND;TZID=Australia/Melbourne:20200621T103000
DTSTAMP:20260425T135126
CREATED:20200612T100215Z
LAST-MODIFIED:20200621T102702Z
UID:10000626-1592730000-1592735400@www.bsv.net.au
SUMMARY:Sunday Dhamma Talk (Online) | Ajahn Nissarano
DESCRIPTION:  \n﻿﻿﻿﻿﻿﻿﻿﻿﻿﻿﻿﻿﻿
URL:https://www.bsv.net.au/events/sunday-dhamma-talk-online-7/
LOCATION:VIC
CATEGORIES:Dhamma Teaching Programs,Upcoming,Weekly
ATTACH;FMTTYPE=image/png:https://www.bsv.net.au/wp-content/uploads/2020/03/o-guided-talks.png
END:VEVENT
BEGIN:VEVENT
DTSTART;TZID=UTC:20200615T193000
DTEND;TZID=UTC:20200615T210000
DTSTAMP:20260425T135126
CREATED:20200612T095945Z
LAST-MODIFIED:20200612T095945Z
UID:10000638-1592249400-1592254800@www.bsv.net.au
SUMMARY:Monday Night Meditation (Monastic Led)
DESCRIPTION:Meditation is a calm approach of healing that increase productivity\, replenish attention\, solidify memories and encourage creativity. Mindfulness training has become more popular than ever in the last decade as a strategy to relieve stress\, anxiety and depression. Join us on Weekly Monday Night Meditation in Malvern East Buddhist Society of Victoria. \n  \n﻿﻿﻿﻿﻿﻿﻿\nMeditation is a calm approach of healing that increase productivity\, replenish attention\, solidify memories and encourage creativity. Mindfulness training has become more popular than ever in the last decade as a strategy to relieve stress\, anxiety and depression. Join us on online\, Live Dhamma Teaching .
URL:https://www.bsv.net.au/events/monday-night-meditation-monastic-led-7/
LOCATION:VIC
CATEGORIES:Dhamma Teaching Programs,Upcoming,Weekly
ATTACH;FMTTYPE=image/png:https://www.bsv.net.au/wp-content/uploads/2020/03/o-dhamma-talks.png
END:VEVENT
BEGIN:VEVENT
DTSTART;TZID=Australia/Melbourne:20200614T093000
DTEND;TZID=Australia/Melbourne:20200614T103000
DTSTAMP:20260425T135126
CREATED:20200612T095857Z
LAST-MODIFIED:20200612T095857Z
UID:10000636-1592127000-1592130600@www.bsv.net.au
SUMMARY:Sunday Dhamma Talk (Online)
DESCRIPTION:  \n﻿﻿﻿﻿﻿﻿﻿﻿﻿
URL:https://www.bsv.net.au/events/sunday-dhamma-talk-online-6/
LOCATION:VIC
CATEGORIES:Dhamma Teaching Programs,Upcoming,Weekly
ATTACH;FMTTYPE=image/png:https://www.bsv.net.au/wp-content/uploads/2020/03/o-guided-talks.png
END:VEVENT
BEGIN:VEVENT
DTSTART;TZID=UTC:20200608T193000
DTEND;TZID=UTC:20200608T210000
DTSTAMP:20260425T135126
CREATED:20200601T091427Z
LAST-MODIFIED:20200601T091548Z
UID:10000635-1591644600-1591650000@www.bsv.net.au
SUMMARY:Monday Night Meditation (Monastic Led)
DESCRIPTION:Meditation is a calm approach of healing that increase productivity\, replenish attention\, solidify memories and encourage creativity. Mindfulness training has become more popular than ever in the last decade as a strategy to relieve stress\, anxiety and depression. Join us on Weekly Monday Night Meditation in Malvern East Buddhist Society of Victoria. \n  \n﻿﻿﻿﻿﻿﻿\nMeditation is a calm approach of healing that increase productivity\, replenish attention\, solidify memories and encourage creativity. Mindfulness training has become more popular than ever in the last decade as a strategy to relieve stress\, anxiety and depression. Join us on online\, Live Dhamma Teaching .
URL:https://www.bsv.net.au/events/monday-night-meditation-monastic-led-6/
LOCATION:VIC
CATEGORIES:Dhamma Teaching Programs,Upcoming,Weekly
ATTACH;FMTTYPE=image/png:https://www.bsv.net.au/wp-content/uploads/2020/03/o-dhamma-talks.png
END:VEVENT
BEGIN:VEVENT
DTSTART;TZID=Australia/Melbourne:20200607T093000
DTEND;TZID=Australia/Melbourne:20200607T103000
DTSTAMP:20260425T135126
CREATED:20200601T091358Z
LAST-MODIFIED:20200601T091451Z
UID:10000634-1591522200-1591525800@www.bsv.net.au
SUMMARY:Sunday Dhamma Talk (Online)
DESCRIPTION:  \n﻿﻿﻿﻿﻿﻿﻿﻿
URL:https://www.bsv.net.au/events/sunday-dhamma-talk-online-5/
LOCATION:VIC
CATEGORIES:Dhamma Teaching Programs,Upcoming,Weekly
ATTACH;FMTTYPE=image/png:https://www.bsv.net.au/wp-content/uploads/2020/03/o-guided-talks.png
END:VEVENT
BEGIN:VEVENT
DTSTART;TZID=UTC:20200601T193000
DTEND;TZID=UTC:20200601T210000
DTSTAMP:20260425T135126
CREATED:20200523T233640Z
LAST-MODIFIED:20200531T232205Z
UID:10000633-1591039800-1591045200@www.bsv.net.au
SUMMARY:Monday Night Meditation (Monastic Led)
DESCRIPTION:Meditation is a calm approach of healing that increase productivity\, replenish attention\, solidify memories and encourage creativity. Mindfulness training has become more popular than ever in the last decade as a strategy to relieve stress\, anxiety and depression. Join us on Weekly Monday Night Meditation in Malvern East Buddhist Society of Victoria. \n  \n﻿﻿﻿﻿﻿\nMeditation is a calm approach of healing that increase productivity\, replenish attention\, solidify memories and encourage creativity. Mindfulness training has become more popular than ever in the last decade as a strategy to relieve stress\, anxiety and depression. Join us on online\, Live Dhamma Teaching .
URL:https://www.bsv.net.au/events/monday-night-meditation-monastic-led-5/
LOCATION:VIC
CATEGORIES:Dhamma Teaching Programs,Upcoming,Weekly
ATTACH;FMTTYPE=image/png:https://www.bsv.net.au/wp-content/uploads/2020/03/o-dhamma-talks.png
END:VEVENT
BEGIN:VEVENT
DTSTART;TZID=Australia/Melbourne:20200531T093000
DTEND;TZID=Australia/Melbourne:20200531T103000
DTSTAMP:20260425T135126
CREATED:20200523T233617Z
LAST-MODIFIED:20200531T232249Z
UID:10000632-1590917400-1590921000@www.bsv.net.au
SUMMARY:Sunday Dhamma Talk (Online)
DESCRIPTION:  \n﻿﻿﻿﻿﻿﻿﻿
URL:https://www.bsv.net.au/events/sunday-dhamma-talk-online-4/
LOCATION:VIC
CATEGORIES:Dhamma Teaching Programs,Upcoming,Weekly
ATTACH;FMTTYPE=image/png:https://www.bsv.net.au/wp-content/uploads/2020/03/o-guided-talks.png
END:VEVENT
BEGIN:VEVENT
DTSTART;TZID=UTC:20200525T193000
DTEND;TZID=UTC:20200525T210000
DTSTAMP:20260425T135126
CREATED:20200515T102930Z
LAST-MODIFIED:20200515T102930Z
UID:10000631-1590435000-1590440400@www.bsv.net.au
SUMMARY:Monday Night Meditation (Monastic Led)
DESCRIPTION:Meditation is a calm approach of healing that increase productivity\, replenish attention\, solidify memories and encourage creativity. Mindfulness training has become more popular than ever in the last decade as a strategy to relieve stress\, anxiety and depression. Join us on Weekly Monday Night Meditation in Malvern East Buddhist Society of Victoria. \n  \n﻿﻿﻿\nMeditation is a calm approach of healing that increase productivity\, replenish attention\, solidify memories and encourage creativity. Mindfulness training has become more popular than ever in the last decade as a strategy to relieve stress\, anxiety and depression. Join us on online\, Live Dhamma Teaching .
URL:https://www.bsv.net.au/events/monday-night-meditation-monastic-led-4/
LOCATION:VIC
CATEGORIES:Upcoming,Weekly
ATTACH;FMTTYPE=image/png:https://www.bsv.net.au/wp-content/uploads/2020/03/o-dhamma-talks.png
END:VEVENT
BEGIN:VEVENT
DTSTART;TZID=Australia/Melbourne:20200524T093000
DTEND;TZID=Australia/Melbourne:20200524T103000
DTSTAMP:20260425T135126
CREATED:20200515T102602Z
LAST-MODIFIED:20200515T102602Z
UID:10000630-1590312600-1590316200@www.bsv.net.au
SUMMARY:Sunday Dhamma Talk (Online)
DESCRIPTION:  \n﻿﻿﻿﻿﻿
URL:https://www.bsv.net.au/events/sunday-dhamma-talk-online-3/
LOCATION:VIC
CATEGORIES:Dhamma Teaching Programs,Upcoming,Weekly
ATTACH;FMTTYPE=image/png:https://www.bsv.net.au/wp-content/uploads/2020/03/o-guided-talks.png
END:VEVENT
BEGIN:VEVENT
DTSTART;TZID=UTC:20200518T193000
DTEND;TZID=UTC:20200518T210000
DTSTAMP:20260425T135126
CREATED:20200508T021715Z
LAST-MODIFIED:20200508T021715Z
UID:10000629-1589830200-1589835600@www.bsv.net.au
SUMMARY:Monday Night Meditation (Monastic Led)
DESCRIPTION:Meditation is a calm approach of healing that increase productivity\, replenish attention\, solidify memories and encourage creativity. Mindfulness training has become more popular than ever in the last decade as a strategy to relieve stress\, anxiety and depression. Join us on Weekly Monday Night Meditation in Malvern East Buddhist Society of Victoria. \n  \n﻿﻿\nMeditation is a calm approach of healing that increase productivity\, replenish attention\, solidify memories and encourage creativity. Mindfulness training has become more popular than ever in the last decade as a strategy to relieve stress\, anxiety and depression. Join us on online\, Live Dhamma Teaching .
URL:https://www.bsv.net.au/events/monday-night-meditation-monastic-led-3/
LOCATION:VIC
CATEGORIES:Upcoming,Weekly
ATTACH;FMTTYPE=image/png:https://www.bsv.net.au/wp-content/uploads/2020/03/o-dhamma-talks.png
END:VEVENT
BEGIN:VEVENT
DTSTART;TZID=Australia/Melbourne:20200517T093000
DTEND;TZID=Australia/Melbourne:20200517T103000
DTSTAMP:20260425T135127
CREATED:20200508T021654Z
LAST-MODIFIED:20200508T021654Z
UID:10000628-1589707800-1589711400@www.bsv.net.au
SUMMARY:Sunday Dhamma Talk (Online)
DESCRIPTION:  \n﻿﻿﻿﻿
URL:https://www.bsv.net.au/events/sunday-dhamma-talk-online-2/
LOCATION:VIC
CATEGORIES:Dhamma Teaching Programs,Upcoming,Weekly
ATTACH;FMTTYPE=image/png:https://www.bsv.net.au/wp-content/uploads/2020/03/o-guided-talks.png
END:VEVENT
BEGIN:VEVENT
DTSTART;TZID=UTC:20200511T193000
DTEND;TZID=UTC:20200511T210000
DTSTAMP:20260425T135127
CREATED:20200430T102540Z
LAST-MODIFIED:20200430T102540Z
UID:10000611-1589225400-1589230800@www.bsv.net.au
SUMMARY:Monday Night Meditation (Monastic Led)
DESCRIPTION:Meditation is a calm approach of healing that increase productivity\, replenish attention\, solidify memories and encourage creativity. Mindfulness training has become more popular than ever in the last decade as a strategy to relieve stress\, anxiety and depression. Join us on Weekly Monday Night Meditation in Malvern East Buddhist Society of Victoria. \n  \n﻿﻿\nMeditation is a calm approach of healing that increase productivity\, replenish attention\, solidify memories and encourage creativity. Mindfulness training has become more popular than ever in the last decade as a strategy to relieve stress\, anxiety and depression. Join us on online\, Live Dhamma Teaching .
URL:https://www.bsv.net.au/events/monday-night-meditation-monastic-led-2/
LOCATION:VIC
CATEGORIES:Upcoming,Weekly
ATTACH;FMTTYPE=image/png:https://www.bsv.net.au/wp-content/uploads/2020/03/o-dhamma-talks.png
END:VEVENT
BEGIN:VEVENT
DTSTART;TZID=Australia/Melbourne:20200510T090000
DTEND;TZID=Australia/Melbourne:20200510T100000
DTSTAMP:20260425T135127
CREATED:20200424T095810Z
LAST-MODIFIED:20200517T033738Z
UID:10000589-1589101200-1589104800@www.bsv.net.au
SUMMARY:Special Online NBM Sangha House & Monks Kutis’ Opening
DESCRIPTION:﻿﻿﻿﻿﻿ \n \nContribute to NBM Building Projects
URL:https://www.bsv.net.au/events/special-online-nbm-sangha-house-monks-kutis-opening/
LOCATION:VIC
CATEGORIES:Special Event,Upcoming,Weekly
ATTACH;FMTTYPE=image/jpeg:https://www.bsv.net.au/wp-content/uploads/2020/04/Sangha-House-Standalone.jpg
END:VEVENT
BEGIN:VEVENT
DTSTART;TZID=UTC:20200504T193000
DTEND;TZID=UTC:20200504T210000
DTSTAMP:20260425T135127
CREATED:20200427T023752Z
LAST-MODIFIED:20200427T023752Z
UID:10000609-1588620600-1588626000@www.bsv.net.au
SUMMARY:Monday Night Meditation (Monastic Led)
DESCRIPTION:Meditation is a calm approach of healing that increase productivity\, replenish attention\, solidify memories and encourage creativity. Mindfulness training has become more popular than ever in the last decade as a strategy to relieve stress\, anxiety and depression. Join us on Weekly Monday Night Meditation in Malvern East Buddhist Society of Victoria. \n  \n﻿﻿\nMeditation is a calm approach of healing that increase productivity\, replenish attention\, solidify memories and encourage creativity. Mindfulness training has become more popular than ever in the last decade as a strategy to relieve stress\, anxiety and depression. Join us on online\, Live Dhamma Teaching .
URL:https://www.bsv.net.au/events/monday-night-meditation-monastic-led/
LOCATION:VIC
CATEGORIES:Upcoming,Weekly
ATTACH;FMTTYPE=image/png:https://www.bsv.net.au/wp-content/uploads/2020/03/o-dhamma-talks.png
END:VEVENT
BEGIN:VEVENT
DTSTART;TZID=Australia/Melbourne:20200503T090000
DTEND;TZID=Australia/Melbourne:20200503T100000
DTSTAMP:20260425T135127
CREATED:20200414T093224Z
LAST-MODIFIED:20200425T010823Z
UID:10000588-1588496400-1588500000@www.bsv.net.au
SUMMARY:Special Online 2020 Vesak Day Event
DESCRIPTION:  \n﻿﻿﻿ \n \n 
URL:https://www.bsv.net.au/events/special-online-vesak-day-event/
LOCATION:VIC
CATEGORIES:Special Event,Upcoming,Weekly
ATTACH;FMTTYPE=image/jpeg:https://www.bsv.net.au/wp-content/uploads/2020/02/buddha-1915589_1920.jpg
END:VEVENT
BEGIN:VEVENT
DTSTART;TZID=UTC:20200427T193000
DTEND;TZID=UTC:20200427T210000
DTSTAMP:20260425T135127
CREATED:20200114T003610Z
LAST-MODIFIED:20200425T091136Z
UID:10000605-1588015800-1588021200@www.bsv.net.au
SUMMARY:Monday Night Meditation (Monastic Led)
DESCRIPTION:Meditation is a calm approach of healing that increase productivity\, replenish attention\, solidify memories and encourage creativity. Mindfulness training has become more popular than ever in the last decade as a strategy to relieve stress\, anxiety and depression. Join us on Weekly Monday Night Meditation in Malvern East Buddhist Society of Victoria. \n  \n﻿﻿\nMeditation is a calm approach of healing that increase productivity\, replenish attention\, solidify memories and encourage creativity. Mindfulness training has become more popular than ever in the last decade as a strategy to relieve stress\, anxiety and depression. Join us on online\, Live Dhamma Teaching .
URL:https://www.bsv.net.au/events/weekly-monday-night-meditation/
LOCATION:VIC
CATEGORIES:Upcoming,Weekly
ATTACH;FMTTYPE=image/png:https://www.bsv.net.au/wp-content/uploads/2020/03/o-dhamma-talks.png
END:VEVENT
BEGIN:VEVENT
DTSTART;TZID=Australia/Melbourne:20200426T093000
DTEND;TZID=Australia/Melbourne:20200426T103000
DTSTAMP:20260425T135127
CREATED:20200323T104014Z
LAST-MODIFIED:20200425T090836Z
UID:10000584-1587893400-1587897000@www.bsv.net.au
SUMMARY:Sunday Dhamma Talk (Online)
DESCRIPTION:  \n﻿﻿﻿
URL:https://www.bsv.net.au/events/sunday-online-dhamma-talk/
LOCATION:VIC
CATEGORIES:Dhamma Teaching Programs,Upcoming,Weekly
ATTACH;FMTTYPE=image/png:https://www.bsv.net.au/wp-content/uploads/2020/03/o-guided-talks.png
END:VEVENT
END:VCALENDAR