BEGIN:VCALENDAR
VERSION:2.0
PRODID:-//Buddhist Society Of Victoria (BSV) - ECPv6.15.13//NONSGML v1.0//EN
CALSCALE:GREGORIAN
METHOD:PUBLISH
X-WR-CALNAME:Buddhist Society Of Victoria (BSV)
X-ORIGINAL-URL:https://www.bsv.net.au
X-WR-CALDESC:Events for Buddhist Society Of Victoria (BSV)
REFRESH-INTERVAL;VALUE=DURATION:PT1H
X-Robots-Tag:noindex
X-PUBLISHED-TTL:PT1H
BEGIN:VTIMEZONE
TZID:UTC
BEGIN:STANDARD
TZOFFSETFROM:+0000
TZOFFSETTO:+0000
TZNAME:UTC
DTSTART:20190101T000000
END:STANDARD
END:VTIMEZONE
BEGIN:VTIMEZONE
TZID:Australia/Melbourne
BEGIN:STANDARD
TZOFFSETFROM:+1100
TZOFFSETTO:+1000
TZNAME:AEST
DTSTART:20190406T160000
END:STANDARD
BEGIN:DAYLIGHT
TZOFFSETFROM:+1000
TZOFFSETTO:+1100
TZNAME:AEDT
DTSTART:20191005T160000
END:DAYLIGHT
BEGIN:STANDARD
TZOFFSETFROM:+1100
TZOFFSETTO:+1000
TZNAME:AEST
DTSTART:20200404T160000
END:STANDARD
BEGIN:DAYLIGHT
TZOFFSETFROM:+1000
TZOFFSETTO:+1100
TZNAME:AEDT
DTSTART:20201003T160000
END:DAYLIGHT
BEGIN:STANDARD
TZOFFSETFROM:+1100
TZOFFSETTO:+1000
TZNAME:AEST
DTSTART:20210403T160000
END:STANDARD
BEGIN:DAYLIGHT
TZOFFSETFROM:+1000
TZOFFSETTO:+1100
TZNAME:AEDT
DTSTART:20211002T160000
END:DAYLIGHT
END:VTIMEZONE
BEGIN:VEVENT
DTSTART;TZID=UTC:20201102T193000
DTEND;TZID=UTC:20201102T210000
DTSTAMP:20260425T072007
CREATED:20201009T060247Z
LAST-MODIFIED:20201009T060247Z
UID:10000574-1604345400-1604350800@www.bsv.net.au
SUMMARY:Monday Night Meditation | Ajahn Nissarano
DESCRIPTION:Meditation is a calm approach of healing that increase productivity\, replenish attention\, solidify memories and encourage creativity. Mindfulness training has become more popular than ever in the last decade as a strategy to relieve stress\, anxiety and depression. Join us on Weekly Monday Night Meditation in Malvern East Buddhist Society of Victoria. \n  \n﻿﻿﻿﻿﻿﻿﻿﻿﻿﻿﻿﻿﻿\nMeditation is a calm approach of healing that increase productivity\, replenish attention\, solidify memories and encourage creativity. Mindfulness training has become more popular than ever in the last decade as a strategy to relieve stress\, anxiety and depression. Join us on online\, Live Dhamma Teaching .
URL:https://www.bsv.net.au/events/monday-night-meditation-ajahn-nissarano-4/
LOCATION:VIC
CATEGORIES:Dhamma Teaching Programs,Upcoming,Weekly
ATTACH;FMTTYPE=image/png:https://www.bsv.net.au/wp-content/uploads/2020/03/o-dhamma-talks.png
END:VEVENT
BEGIN:VEVENT
DTSTART;TZID=Australia/Melbourne:20201101T090000
DTEND;TZID=Australia/Melbourne:20201101T103000
DTSTAMP:20260425T072007
CREATED:20201009T060219Z
LAST-MODIFIED:20201015T101337Z
UID:10000573-1604221200-1604226600@www.bsv.net.au
SUMMARY:Sunday Dhamma Talk (Online) | Ajahn Nissarano
DESCRIPTION:  \n﻿﻿﻿﻿﻿﻿﻿﻿﻿﻿﻿﻿﻿﻿﻿﻿
URL:https://www.bsv.net.au/events/sunday-dhamma-talk-online-ajahn-nissarano-4/
LOCATION:VIC
ATTACH;FMTTYPE=image/png:https://www.bsv.net.au/wp-content/uploads/2020/03/o-guided-talks.png
END:VEVENT
BEGIN:VEVENT
DTSTART;TZID=UTC:20201026T193000
DTEND;TZID=UTC:20201026T210000
DTSTAMP:20260425T072007
CREATED:20201009T060027Z
LAST-MODIFIED:20201103T041642Z
UID:10000572-1603740600-1603746000@www.bsv.net.au
SUMMARY:Monday Night Meditation (Monastic Led) | Bhante Cittapalo
DESCRIPTION:Meditation is a calm approach of healing that increase productivity\, replenish attention\, solidify memories and encourage creativity. Mindfulness training has become more popular than ever in the last decade as a strategy to relieve stress\, anxiety and depression. Join us on Weekly Monday Night Meditation in Malvern East Buddhist Society of Victoria. \n  \n﻿﻿﻿﻿﻿﻿﻿﻿﻿﻿﻿﻿﻿﻿﻿﻿﻿\nMeditation is a calm approach of healing that increase productivity\, replenish attention\, solidify memories and encourage creativity. Mindfulness training has become more popular than ever in the last decade as a strategy to relieve stress\, anxiety and depression. Join us on online\, Live Dhamma Teaching .
URL:https://www.bsv.net.au/events/monday-night-meditation-monastic-led-bhante-cittapalo-3/
LOCATION:VIC
CATEGORIES:Dhamma Teaching Programs,Upcoming,Weekly
ATTACH;FMTTYPE=image/png:https://www.bsv.net.au/wp-content/uploads/2020/03/o-dhamma-talks.png
END:VEVENT
BEGIN:VEVENT
DTSTART;TZID=Australia/Melbourne:20201025T090000
DTEND;TZID=Australia/Melbourne:20201025T103000
DTSTAMP:20260425T072007
CREATED:20201009T055924Z
LAST-MODIFIED:20201009T055924Z
UID:10000571-1603616400-1603621800@www.bsv.net.au
SUMMARY:Sunday Dhamma Talk (Online) | Bhante Cittapalo
DESCRIPTION:  \n﻿﻿﻿﻿﻿﻿﻿﻿﻿﻿﻿﻿﻿﻿﻿﻿﻿﻿﻿﻿﻿﻿
URL:https://www.bsv.net.au/events/sunday-dhamma-talk-online-bhante-cittapalo-3/
LOCATION:VIC
CATEGORIES:Dhamma Teaching Programs,Upcoming,Weekly
ATTACH;FMTTYPE=image/png:https://www.bsv.net.au/wp-content/uploads/2020/03/o-guided-talks.png
END:VEVENT
BEGIN:VEVENT
DTSTART;TZID=UTC:20201019T193000
DTEND;TZID=UTC:20201019T210000
DTSTAMP:20260425T072008
CREATED:20201009T055624Z
LAST-MODIFIED:20201009T055738Z
UID:10000570-1603135800-1603141200@www.bsv.net.au
SUMMARY:Monday Night Meditation (Monastic Led) | Bhante Bodhi
DESCRIPTION:Meditation is a calm approach of healing that increase productivity\, replenish attention\, solidify memories and encourage creativity. Mindfulness training has become more popular than ever in the last decade as a strategy to relieve stress\, anxiety and depression. Join us on Weekly Monday Night Meditation in Malvern East Buddhist Society of Victoria. \n  \n﻿﻿﻿﻿﻿﻿﻿﻿﻿﻿﻿﻿﻿﻿﻿\nMeditation is a calm approach of healing that increase productivity\, replenish attention\, solidify memories and encourage creativity. Mindfulness training has become more popular than ever in the last decade as a strategy to relieve stress\, anxiety and depression. Join us on online\, Live Dhamma Teaching .
URL:https://www.bsv.net.au/events/monday-night-meditation-monastic-led-bhante-bodhi-3/
LOCATION:VIC
CATEGORIES:Dhamma Teaching Programs,Upcoming,Weekly
ATTACH;FMTTYPE=image/png:https://www.bsv.net.au/wp-content/uploads/2020/03/o-dhamma-talks.png
END:VEVENT
BEGIN:VEVENT
DTSTART;TZID=Australia/Melbourne:20201018T090000
DTEND;TZID=Australia/Melbourne:20201018T103000
DTSTAMP:20260425T072008
CREATED:20201009T055449Z
LAST-MODIFIED:20201009T055656Z
UID:10000569-1603011600-1603017000@www.bsv.net.au
SUMMARY:Sunday Dhamma Talk (Online) | Bhante Bodhi
DESCRIPTION:  \n﻿﻿﻿﻿﻿﻿﻿﻿﻿﻿﻿﻿﻿﻿﻿﻿﻿﻿﻿﻿﻿﻿﻿
URL:https://www.bsv.net.au/events/sunday-dhamma-talk-online-bhante-bodhi-3/
LOCATION:VIC
CATEGORIES:Dhamma Teaching Programs,Upcoming,Weekly
ATTACH;FMTTYPE=image/png:https://www.bsv.net.au/wp-content/uploads/2020/03/o-guided-talks.png
END:VEVENT
BEGIN:VEVENT
DTSTART;TZID=UTC:20201012T193000
DTEND;TZID=UTC:20201012T210000
DTSTAMP:20260425T072008
CREATED:20200920T110013Z
LAST-MODIFIED:20200920T110013Z
UID:10000684-1602531000-1602536400@www.bsv.net.au
SUMMARY:Monday Night Meditation (Monastic Led) | Bhante Aranavihari
DESCRIPTION:Meditation is a calm approach of healing that increase productivity\, replenish attention\, solidify memories and encourage creativity. Mindfulness training has become more popular than ever in the last decade as a strategy to relieve stress\, anxiety and depression. Join us on Weekly Monday Night Meditation in Malvern East Buddhist Society of Victoria. \n  \n﻿﻿﻿﻿﻿﻿﻿﻿﻿﻿﻿﻿﻿﻿﻿\nMeditation is a calm approach of healing that increase productivity\, replenish attention\, solidify memories and encourage creativity. Mindfulness training has become more popular than ever in the last decade as a strategy to relieve stress\, anxiety and depression. Join us on online\, Live Dhamma Teaching .
URL:https://www.bsv.net.au/events/monday-night-meditation-monastic-led-bhante-aranavihari-3/
LOCATION:VIC
CATEGORIES:Dhamma Teaching Programs,Upcoming,Weekly
ATTACH;FMTTYPE=image/png:https://www.bsv.net.au/wp-content/uploads/2020/03/o-dhamma-talks.png
END:VEVENT
BEGIN:VEVENT
DTSTART;TZID=Australia/Melbourne:20201011T090000
DTEND;TZID=Australia/Melbourne:20201011T103000
DTSTAMP:20260425T072008
CREATED:20200920T105847Z
LAST-MODIFIED:20200920T105847Z
UID:10000683-1602406800-1602412200@www.bsv.net.au
SUMMARY:Sunday Dhamma Talk (Online) | Bhante Aranavihari
DESCRIPTION:  \n﻿﻿﻿﻿﻿﻿﻿﻿﻿﻿﻿﻿﻿﻿﻿﻿﻿﻿﻿﻿
URL:https://www.bsv.net.au/events/sunday-dhamma-talk-online-bhante-aranavihari-3/
LOCATION:VIC
CATEGORIES:Dhamma Teaching Programs,Upcoming,Weekly
ATTACH;FMTTYPE=image/png:https://www.bsv.net.au/wp-content/uploads/2020/03/o-guided-talks.png
END:VEVENT
BEGIN:VEVENT
DTSTART;TZID=UTC:20201005T193000
DTEND;TZID=UTC:20201005T210000
DTSTAMP:20260425T072008
CREATED:20200920T105746Z
LAST-MODIFIED:20200920T105746Z
UID:10000682-1601926200-1601931600@www.bsv.net.au
SUMMARY:Monday Night Meditation (Monastic Led) | Bhante Cunda
DESCRIPTION:Meditation is a calm approach of healing that increase productivity\, replenish attention\, solidify memories and encourage creativity. Mindfulness training has become more popular than ever in the last decade as a strategy to relieve stress\, anxiety and depression. Join us on Weekly Monday Night Meditation in Malvern East Buddhist Society of Victoria. \n  \n﻿﻿﻿﻿﻿﻿﻿﻿﻿﻿﻿﻿﻿﻿\nMeditation is a calm approach of healing that increase productivity\, replenish attention\, solidify memories and encourage creativity. Mindfulness training has become more popular than ever in the last decade as a strategy to relieve stress\, anxiety and depression. Join us on online\, Live Dhamma Teaching .
URL:https://www.bsv.net.au/events/monday-night-meditation-monastic-led-bhante-cunda-2/
LOCATION:VIC
CATEGORIES:Dhamma Teaching Programs,Upcoming,Weekly
ATTACH;FMTTYPE=image/png:https://www.bsv.net.au/wp-content/uploads/2020/03/o-dhamma-talks.png
END:VEVENT
BEGIN:VEVENT
DTSTART;TZID=Australia/Melbourne:20201004T090000
DTEND;TZID=Australia/Melbourne:20201004T103000
DTSTAMP:20260425T072008
CREATED:20200920T105528Z
LAST-MODIFIED:20200920T105528Z
UID:10000681-1601802000-1601807400@www.bsv.net.au
SUMMARY:Sunday Dhamma Talk (Online) | Bhante Cunda
DESCRIPTION:  \n﻿﻿﻿﻿﻿﻿﻿﻿﻿﻿﻿﻿﻿﻿﻿﻿﻿﻿
URL:https://www.bsv.net.au/events/sunday-dhamma-talk-online-bhante-cunda-2/
LOCATION:VIC
CATEGORIES:Dhamma Teaching Programs,Upcoming,Weekly
ATTACH;FMTTYPE=image/png:https://www.bsv.net.au/wp-content/uploads/2020/03/o-guided-talks.png
END:VEVENT
BEGIN:VEVENT
DTSTART;TZID=UTC:20200928T193000
DTEND;TZID=UTC:20200928T210000
DTSTAMP:20260425T072008
CREATED:20200920T105216Z
LAST-MODIFIED:20200920T105216Z
UID:10000680-1601321400-1601326800@www.bsv.net.au
SUMMARY:Monday Night Meditation | Ajahn Nissarano
DESCRIPTION:Meditation is a calm approach of healing that increase productivity\, replenish attention\, solidify memories and encourage creativity. Mindfulness training has become more popular than ever in the last decade as a strategy to relieve stress\, anxiety and depression. Join us on Weekly Monday Night Meditation in Malvern East Buddhist Society of Victoria. \n  \n﻿﻿﻿﻿﻿﻿﻿﻿﻿﻿﻿﻿﻿\nMeditation is a calm approach of healing that increase productivity\, replenish attention\, solidify memories and encourage creativity. Mindfulness training has become more popular than ever in the last decade as a strategy to relieve stress\, anxiety and depression. Join us on online\, Live Dhamma Teaching .
URL:https://www.bsv.net.au/events/monday-night-meditation-ajahn-nissarano-3/
LOCATION:VIC
CATEGORIES:Dhamma Teaching Programs,Upcoming,Weekly
ATTACH;FMTTYPE=image/png:https://www.bsv.net.au/wp-content/uploads/2020/03/o-dhamma-talks.png
END:VEVENT
BEGIN:VEVENT
DTSTART;TZID=Australia/Melbourne:20200927T090000
DTEND;TZID=Australia/Melbourne:20200927T103000
DTSTAMP:20260425T072008
CREATED:20200920T105059Z
LAST-MODIFIED:20200920T105059Z
UID:10000679-1601197200-1601202600@www.bsv.net.au
SUMMARY:Sunday Dhamma Talk (Online) | Ajahn Nissarano
DESCRIPTION:  \n﻿﻿﻿﻿﻿﻿﻿﻿﻿﻿﻿﻿﻿﻿﻿
URL:https://www.bsv.net.au/events/sunday-dhamma-talk-online-ajahn-nissarano-3/
LOCATION:VIC
CATEGORIES:Dhamma Teaching Programs,Upcoming,Weekly
ATTACH;FMTTYPE=image/png:https://www.bsv.net.au/wp-content/uploads/2020/03/o-guided-talks.png
END:VEVENT
BEGIN:VEVENT
DTSTART;TZID=UTC:20200921T193000
DTEND;TZID=UTC:20200921T210000
DTSTAMP:20260425T072008
CREATED:20200828T093151Z
LAST-MODIFIED:20200828T093151Z
UID:10000678-1600716600-1600722000@www.bsv.net.au
SUMMARY:Monday Night Meditation (Monastic Led) | Bhante Cittapalo
DESCRIPTION:Meditation is a calm approach of healing that increase productivity\, replenish attention\, solidify memories and encourage creativity. Mindfulness training has become more popular than ever in the last decade as a strategy to relieve stress\, anxiety and depression. Join us on Weekly Monday Night Meditation in Malvern East Buddhist Society of Victoria. \n  \n﻿﻿﻿﻿﻿﻿﻿﻿﻿﻿﻿﻿﻿﻿﻿﻿\nMeditation is a calm approach of healing that increase productivity\, replenish attention\, solidify memories and encourage creativity. Mindfulness training has become more popular than ever in the last decade as a strategy to relieve stress\, anxiety and depression. Join us on online\, Live Dhamma Teaching .
URL:https://www.bsv.net.au/events/monday-night-meditation-monastic-led-bhante-cittapalo-2/
LOCATION:VIC
CATEGORIES:Dhamma Teaching Programs,Upcoming,Weekly
ATTACH;FMTTYPE=image/png:https://www.bsv.net.au/wp-content/uploads/2020/03/o-dhamma-talks.png
END:VEVENT
BEGIN:VEVENT
DTSTART;TZID=Australia/Melbourne:20200920T090000
DTEND;TZID=Australia/Melbourne:20200920T103000
DTSTAMP:20260425T072008
CREATED:20200828T093139Z
LAST-MODIFIED:20200828T093139Z
UID:10000677-1600592400-1600597800@www.bsv.net.au
SUMMARY:Sunday Dhamma Talk (Online) | Bhante Cittapalo
DESCRIPTION:  \n﻿﻿﻿﻿﻿﻿﻿﻿﻿﻿﻿﻿﻿﻿﻿﻿﻿﻿﻿﻿﻿
URL:https://www.bsv.net.au/events/sunday-dhamma-talk-online-bhante-cittapalo-2/
LOCATION:VIC
CATEGORIES:Dhamma Teaching Programs,Upcoming,Weekly
ATTACH;FMTTYPE=image/png:https://www.bsv.net.au/wp-content/uploads/2020/03/o-guided-talks.png
END:VEVENT
BEGIN:VEVENT
DTSTART;TZID=UTC:20200914T193000
DTEND;TZID=UTC:20200914T210000
DTSTAMP:20260425T072008
CREATED:20200828T092619Z
LAST-MODIFIED:20200828T092619Z
UID:10000642-1600111800-1600117200@www.bsv.net.au
SUMMARY:Monday Night Meditation (Monastic Led) | Bhante Bodhi
DESCRIPTION:Meditation is a calm approach of healing that increase productivity\, replenish attention\, solidify memories and encourage creativity. Mindfulness training has become more popular than ever in the last decade as a strategy to relieve stress\, anxiety and depression. Join us on Weekly Monday Night Meditation in Malvern East Buddhist Society of Victoria. \n  \n﻿﻿﻿﻿﻿﻿﻿﻿﻿﻿﻿﻿﻿﻿\nMeditation is a calm approach of healing that increase productivity\, replenish attention\, solidify memories and encourage creativity. Mindfulness training has become more popular than ever in the last decade as a strategy to relieve stress\, anxiety and depression. Join us on online\, Live Dhamma Teaching .
URL:https://www.bsv.net.au/events/monday-night-meditation-monastic-led-bhante-bodhi-2/
LOCATION:VIC
CATEGORIES:Dhamma Teaching Programs,Upcoming,Weekly
ATTACH;FMTTYPE=image/png:https://www.bsv.net.au/wp-content/uploads/2020/03/o-dhamma-talks.png
END:VEVENT
BEGIN:VEVENT
DTSTART;TZID=Australia/Melbourne:20200913T090000
DTEND;TZID=Australia/Melbourne:20200913T103000
DTSTAMP:20260425T072008
CREATED:20200828T092624Z
LAST-MODIFIED:20200828T092624Z
UID:10000676-1599987600-1599993000@www.bsv.net.au
SUMMARY:Sunday Dhamma Talk (Online) | Bhante Bodhi
DESCRIPTION:  \n﻿﻿﻿﻿﻿﻿﻿﻿﻿﻿﻿﻿﻿﻿﻿﻿﻿﻿﻿﻿
URL:https://www.bsv.net.au/events/sunday-dhamma-talk-online-bhante-bodhi-2/
LOCATION:VIC
CATEGORIES:Dhamma Teaching Programs,Upcoming,Weekly
ATTACH;FMTTYPE=image/png:https://www.bsv.net.au/wp-content/uploads/2020/03/o-guided-talks.png
END:VEVENT
BEGIN:VEVENT
DTSTART;TZID=UTC:20200907T193000
DTEND;TZID=UTC:20200907T210000
DTSTAMP:20260425T072008
CREATED:20200821T003845Z
LAST-MODIFIED:20200821T003845Z
UID:10000568-1599507000-1599512400@www.bsv.net.au
SUMMARY:Monday Night Meditation (Monastic Led) | Bhante Aranavihari
DESCRIPTION:Meditation is a calm approach of healing that increase productivity\, replenish attention\, solidify memories and encourage creativity. Mindfulness training has become more popular than ever in the last decade as a strategy to relieve stress\, anxiety and depression. Join us on Weekly Monday Night Meditation in Malvern East Buddhist Society of Victoria. \n  \n﻿﻿﻿﻿﻿﻿﻿﻿﻿﻿﻿﻿﻿﻿\nMeditation is a calm approach of healing that increase productivity\, replenish attention\, solidify memories and encourage creativity. Mindfulness training has become more popular than ever in the last decade as a strategy to relieve stress\, anxiety and depression. Join us on online\, Live Dhamma Teaching .
URL:https://www.bsv.net.au/events/monday-night-meditation-monastic-led-bhante-aranavihari-2/
LOCATION:VIC
CATEGORIES:Dhamma Teaching Programs,Upcoming,Weekly
ATTACH;FMTTYPE=image/png:https://www.bsv.net.au/wp-content/uploads/2020/03/o-dhamma-talks.png
END:VEVENT
BEGIN:VEVENT
DTSTART;TZID=Australia/Melbourne:20200906T090000
DTEND;TZID=Australia/Melbourne:20200906T103000
DTSTAMP:20260425T072008
CREATED:20200821T003833Z
LAST-MODIFIED:20200821T003833Z
UID:10000567-1599382800-1599388200@www.bsv.net.au
SUMMARY:Sunday Dhamma Talk (Online) | Bhante Aranavihari
DESCRIPTION:  \n﻿﻿﻿﻿﻿﻿﻿﻿﻿﻿﻿﻿﻿﻿﻿﻿﻿﻿﻿
URL:https://www.bsv.net.au/events/sunday-dhamma-talk-online-bhante-aranavihari-2/
LOCATION:VIC
CATEGORIES:Dhamma Teaching Programs,Upcoming,Weekly
ATTACH;FMTTYPE=image/png:https://www.bsv.net.au/wp-content/uploads/2020/03/o-guided-talks.png
END:VEVENT
BEGIN:VEVENT
DTSTART;TZID=UTC:20200831T193000
DTEND;TZID=UTC:20200831T210000
DTSTAMP:20260425T072008
CREATED:20200821T003032Z
LAST-MODIFIED:20200821T003032Z
UID:10000566-1598902200-1598907600@www.bsv.net.au
SUMMARY:Monday Night Meditation (Monastic Led) | Bhante Cunda
DESCRIPTION:Meditation is a calm approach of healing that increase productivity\, replenish attention\, solidify memories and encourage creativity. Mindfulness training has become more popular than ever in the last decade as a strategy to relieve stress\, anxiety and depression. Join us on Weekly Monday Night Meditation in Malvern East Buddhist Society of Victoria. \n  \n﻿﻿﻿﻿﻿﻿﻿﻿﻿﻿﻿﻿﻿\nMeditation is a calm approach of healing that increase productivity\, replenish attention\, solidify memories and encourage creativity. Mindfulness training has become more popular than ever in the last decade as a strategy to relieve stress\, anxiety and depression. Join us on online\, Live Dhamma Teaching .
URL:https://www.bsv.net.au/events/monday-night-meditation-monastic-led-bhante-cunda/
LOCATION:VIC
CATEGORIES:Dhamma Teaching Programs,Upcoming,Weekly
ATTACH;FMTTYPE=image/png:https://www.bsv.net.au/wp-content/uploads/2020/03/o-dhamma-talks.png
END:VEVENT
BEGIN:VEVENT
DTSTART;TZID=Australia/Melbourne:20200830T090000
DTEND;TZID=Australia/Melbourne:20200830T103000
DTSTAMP:20260425T072008
CREATED:20200821T003023Z
LAST-MODIFIED:20200821T003023Z
UID:10000565-1598778000-1598783400@www.bsv.net.au
SUMMARY:Sunday Dhamma Talk (Online) | Bhante Cunda
DESCRIPTION:  \n﻿﻿﻿﻿﻿﻿﻿﻿﻿﻿﻿﻿﻿﻿﻿﻿﻿
URL:https://www.bsv.net.au/events/sunday-dhamma-talk-online-bhante-cunda/
LOCATION:VIC
CATEGORIES:Dhamma Teaching Programs,Upcoming,Weekly
ATTACH;FMTTYPE=image/png:https://www.bsv.net.au/wp-content/uploads/2020/03/o-guided-talks.png
END:VEVENT
BEGIN:VEVENT
DTSTART;TZID=UTC:20200824T193000
DTEND;TZID=UTC:20200824T210000
DTSTAMP:20260425T072008
CREATED:20200630T102016Z
LAST-MODIFIED:20200821T002343Z
UID:10000621-1598297400-1598302800@www.bsv.net.au
SUMMARY:Monday Night Meditation | Ajahn Nissarano
DESCRIPTION:Meditation is a calm approach of healing that increase productivity\, replenish attention\, solidify memories and encourage creativity. Mindfulness training has become more popular than ever in the last decade as a strategy to relieve stress\, anxiety and depression. Join us on Weekly Monday Night Meditation in Malvern East Buddhist Society of Victoria. \n  \n﻿﻿﻿﻿﻿﻿﻿﻿﻿﻿﻿﻿\nMeditation is a calm approach of healing that increase productivity\, replenish attention\, solidify memories and encourage creativity. Mindfulness training has become more popular than ever in the last decade as a strategy to relieve stress\, anxiety and depression. Join us on online\, Live Dhamma Teaching .
URL:https://www.bsv.net.au/events/monday-night-meditation-ajahn-nissarano/
LOCATION:VIC
CATEGORIES:Dhamma Teaching Programs,Upcoming,Weekly
ATTACH;FMTTYPE=image/png:https://www.bsv.net.au/wp-content/uploads/2020/03/o-dhamma-talks.png
END:VEVENT
BEGIN:VEVENT
DTSTART;TZID=Australia/Melbourne:20200823T090000
DTEND;TZID=Australia/Melbourne:20200823T103000
DTSTAMP:20260425T072008
CREATED:20200821T002357Z
LAST-MODIFIED:20200821T002357Z
UID:10000563-1598173200-1598178600@www.bsv.net.au
SUMMARY:Sunday Dhamma Talk (Online) | Ajahn Nissarano
DESCRIPTION:  \n﻿﻿﻿﻿﻿﻿﻿﻿﻿﻿﻿﻿﻿﻿
URL:https://www.bsv.net.au/events/sunday-dhamma-talk-online-ajahn-nissarano-2/
LOCATION:VIC
CATEGORIES:Dhamma Teaching Programs,Upcoming,Weekly
ATTACH;FMTTYPE=image/png:https://www.bsv.net.au/wp-content/uploads/2020/03/o-guided-talks.png
END:VEVENT
BEGIN:VEVENT
DTSTART;TZID=UTC:20200817T193000
DTEND;TZID=UTC:20200817T210000
DTSTAMP:20260425T072008
CREATED:20200723T100724Z
LAST-MODIFIED:20200723T100822Z
UID:10000562-1597692600-1597698000@www.bsv.net.au
SUMMARY:Monday Night Meditation (Monastic Led) | Bhante Cittapalo
DESCRIPTION:Meditation is a calm approach of healing that increase productivity\, replenish attention\, solidify memories and encourage creativity. Mindfulness training has become more popular than ever in the last decade as a strategy to relieve stress\, anxiety and depression. Join us on Weekly Monday Night Meditation in Malvern East Buddhist Society of Victoria. \n  \n﻿﻿﻿﻿﻿﻿﻿﻿﻿﻿﻿﻿﻿﻿﻿\nMeditation is a calm approach of healing that increase productivity\, replenish attention\, solidify memories and encourage creativity. Mindfulness training has become more popular than ever in the last decade as a strategy to relieve stress\, anxiety and depression. Join us on online\, Live Dhamma Teaching .
URL:https://www.bsv.net.au/events/monday-night-meditation-monastic-led-bhante-cittapalo/
LOCATION:VIC
CATEGORIES:Dhamma Teaching Programs,Upcoming,Weekly
ATTACH;FMTTYPE=image/png:https://www.bsv.net.au/wp-content/uploads/2020/03/o-dhamma-talks.png
END:VEVENT
BEGIN:VEVENT
DTSTART;TZID=Australia/Melbourne:20200816T090000
DTEND;TZID=Australia/Melbourne:20200816T103000
DTSTAMP:20260425T072008
CREATED:20200723T100635Z
LAST-MODIFIED:20200723T100826Z
UID:10000561-1597568400-1597573800@www.bsv.net.au
SUMMARY:Sunday Dhamma Talk (Online) | Bhante Cittapalo
DESCRIPTION:  \n﻿﻿﻿﻿﻿﻿﻿﻿﻿﻿﻿﻿﻿﻿﻿﻿﻿﻿﻿﻿
URL:https://www.bsv.net.au/events/sunday-dhamma-talk-online-bhante-cittapalo/
LOCATION:VIC
CATEGORIES:Dhamma Teaching Programs,Upcoming,Weekly
ATTACH;FMTTYPE=image/png:https://www.bsv.net.au/wp-content/uploads/2020/03/o-guided-talks.png
END:VEVENT
BEGIN:VEVENT
DTSTART;TZID=UTC:20200810T193000
DTEND;TZID=UTC:20200810T210000
DTSTAMP:20260425T072008
CREATED:20200723T095929Z
LAST-MODIFIED:20200723T095929Z
UID:10000560-1597087800-1597093200@www.bsv.net.au
SUMMARY:Monday Night Meditation (Monastic Led) | Bhante Bodhi
DESCRIPTION:Meditation is a calm approach of healing that increase productivity\, replenish attention\, solidify memories and encourage creativity. Mindfulness training has become more popular than ever in the last decade as a strategy to relieve stress\, anxiety and depression. Join us on Weekly Monday Night Meditation in Malvern East Buddhist Society of Victoria. \n  \n﻿﻿﻿﻿﻿﻿﻿﻿﻿﻿﻿﻿﻿﻿\nMeditation is a calm approach of healing that increase productivity\, replenish attention\, solidify memories and encourage creativity. Mindfulness training has become more popular than ever in the last decade as a strategy to relieve stress\, anxiety and depression. Join us on online\, Live Dhamma Teaching .
URL:https://www.bsv.net.au/events/monday-night-meditation-monastic-led-bhante-bodhi/
LOCATION:VIC
CATEGORIES:Dhamma Teaching Programs,Upcoming,Weekly
ATTACH;FMTTYPE=image/png:https://www.bsv.net.au/wp-content/uploads/2020/03/o-dhamma-talks.png
END:VEVENT
BEGIN:VEVENT
DTSTART;TZID=Australia/Melbourne:20200809T090000
DTEND;TZID=Australia/Melbourne:20200809T103000
DTSTAMP:20260425T072008
CREATED:20200723T095833Z
LAST-MODIFIED:20200723T095833Z
UID:10000559-1596963600-1596969000@www.bsv.net.au
SUMMARY:Sunday Dhamma Talk (Online) | Bhante Bodhi
DESCRIPTION:  \n﻿﻿﻿﻿﻿﻿﻿﻿﻿﻿﻿﻿﻿﻿﻿﻿﻿﻿﻿
URL:https://www.bsv.net.au/events/sunday-dhamma-talk-online-bhante-bodhi/
LOCATION:VIC
CATEGORIES:Dhamma Teaching Programs,Upcoming,Weekly
ATTACH;FMTTYPE=image/png:https://www.bsv.net.au/wp-content/uploads/2020/03/o-guided-talks.png
END:VEVENT
BEGIN:VEVENT
DTSTART;TZID=UTC:20200803T193000
DTEND;TZID=UTC:20200803T210000
DTSTAMP:20260425T072008
CREATED:20200716T101212Z
LAST-MODIFIED:20200726T111223Z
UID:10000640-1596483000-1596488400@www.bsv.net.au
SUMMARY:Monday Night Meditation (Monastic Led) | Bhante Aranavihari
DESCRIPTION:Meditation is a calm approach of healing that increase productivity\, replenish attention\, solidify memories and encourage creativity. Mindfulness training has become more popular than ever in the last decade as a strategy to relieve stress\, anxiety and depression. Join us on Weekly Monday Night Meditation in Malvern East Buddhist Society of Victoria. \n  \n﻿﻿﻿﻿﻿﻿﻿﻿﻿﻿﻿﻿﻿\nMeditation is a calm approach of healing that increase productivity\, replenish attention\, solidify memories and encourage creativity. Mindfulness training has become more popular than ever in the last decade as a strategy to relieve stress\, anxiety and depression. Join us on online\, Live Dhamma Teaching .
URL:https://www.bsv.net.au/events/monday-night-meditation-monastic-led-bhante-chunda-1-2/
LOCATION:VIC
CATEGORIES:Dhamma Teaching Programs,Upcoming,Weekly
ATTACH;FMTTYPE=image/png:https://www.bsv.net.au/wp-content/uploads/2020/03/o-dhamma-talks.png
END:VEVENT
BEGIN:VEVENT
DTSTART;TZID=Australia/Melbourne:20200802T090000
DTEND;TZID=Australia/Melbourne:20200802T103000
DTSTAMP:20260425T072008
CREATED:20200716T101149Z
LAST-MODIFIED:20200726T111224Z
UID:10000624-1596358800-1596364200@www.bsv.net.au
SUMMARY:Sunday Dhamma Talk (Online) | Bhante Aranavihari
DESCRIPTION:  \n﻿﻿﻿﻿﻿﻿﻿﻿﻿﻿﻿﻿﻿﻿﻿﻿﻿﻿
URL:https://www.bsv.net.au/events/sunday-dhamma-talk-online-bhante-chunda-1/
LOCATION:VIC
CATEGORIES:Dhamma Teaching Programs,Upcoming,Weekly
ATTACH;FMTTYPE=image/png:https://www.bsv.net.au/wp-content/uploads/2020/03/o-guided-talks.png
END:VEVENT
BEGIN:VEVENT
DTSTART;TZID=UTC:20200727T193000
DTEND;TZID=UTC:20200727T210000
DTSTAMP:20260425T072008
CREATED:20200707T102135Z
LAST-MODIFIED:20200726T111138Z
UID:10000623-1595878200-1595883600@www.bsv.net.au
SUMMARY:Monday Night Meditation (Monastic Led) | Bhante Cunda
DESCRIPTION:Meditation is a calm approach of healing that increase productivity\, replenish attention\, solidify memories and encourage creativity. Mindfulness training has become more popular than ever in the last decade as a strategy to relieve stress\, anxiety and depression. Join us on Weekly Monday Night Meditation in Malvern East Buddhist Society of Victoria. \n  \n﻿﻿﻿﻿﻿﻿﻿﻿﻿﻿﻿﻿\nMeditation is a calm approach of healing that increase productivity\, replenish attention\, solidify memories and encourage creativity. Mindfulness training has become more popular than ever in the last decade as a strategy to relieve stress\, anxiety and depression. Join us on online\, Live Dhamma Teaching .
URL:https://www.bsv.net.au/events/monday-night-meditation-monastic-led-bhante-aranavihari/
LOCATION:VIC
CATEGORIES:Dhamma Teaching Programs,Upcoming,Weekly
ATTACH;FMTTYPE=image/png:https://www.bsv.net.au/wp-content/uploads/2020/03/o-dhamma-talks.png
END:VEVENT
BEGIN:VEVENT
DTSTART;TZID=Australia/Melbourne:20200726T090000
DTEND;TZID=Australia/Melbourne:20200726T103000
DTSTAMP:20260425T072008
CREATED:20200707T102126Z
LAST-MODIFIED:20200726T111130Z
UID:10000622-1595754000-1595759400@www.bsv.net.au
SUMMARY:Sunday Dhamma Talk (Online) | Bhante Cunda
DESCRIPTION:  \n﻿﻿﻿﻿﻿﻿﻿﻿﻿﻿﻿﻿﻿﻿﻿﻿
URL:https://www.bsv.net.au/events/sunday-dhamma-talk-online-bhante-aranavihari/
LOCATION:VIC
CATEGORIES:Dhamma Teaching Programs,Upcoming,Weekly
ATTACH;FMTTYPE=image/png:https://www.bsv.net.au/wp-content/uploads/2020/03/o-guided-talks.png
END:VEVENT
END:VCALENDAR