BEGIN:VCALENDAR
VERSION:2.0
PRODID:-//Buddhist Society Of Victoria (BSV) - ECPv5.2.1//NONSGML v1.0//EN
CALSCALE:GREGORIAN
METHOD:PUBLISH
X-WR-CALNAME:Buddhist Society Of Victoria (BSV)
X-ORIGINAL-URL:https://www.bsv.net.au
X-WR-CALDESC:Events for Buddhist Society Of Victoria (BSV)
BEGIN:VTIMEZONE
TZID:Australia/Melbourne
BEGIN:STANDARD
TZOFFSETFROM:+1100
TZOFFSETTO:+1000
TZNAME:AEST
DTSTART:20210403T160000
END:STANDARD
BEGIN:DAYLIGHT
TZOFFSETFROM:+1000
TZOFFSETTO:+1100
TZNAME:AEDT
DTSTART:20211002T160000
END:DAYLIGHT
END:VTIMEZONE
BEGIN:VEVENT
DTSTART;TZID=Australia/Melbourne:20210130T083000
DTEND;TZID=Australia/Melbourne:20210130T163000
DTSTAMP:20210301T150725
CREATED:20210113T092407Z
LAST-MODIFIED:20210127T043546Z
UID:4115-1611995400-1612024200@www.bsv.net.au
SUMMARY:Monthly Day Meditation Retreat - Jan 2021
DESCRIPTION:Day of Peaceful Meditation held on the last Saturday of every month\nLed by Ayya Upekkha\nTime: 8.30 am to 4.30 pm\nVenue: 71 Darling Road\, Malvern East\, VIC 3145 \nPractitioners spend the day in meditation practice and quiet reflection. \nPlease bring your own lunch.  Tea and coffee will be provided. \nBookings not required.  All are very welcome.
URL:https://www.bsv.net.au/events/monthly-day-meditation-retreat-jan-2021/
LOCATION:Buddhaloka Centre\, 71 Darling Road\, Malvern East\, VIC\, 3145\, Australia
CATEGORIES:Dhamma Teaching Programs,Retreats,Upcoming,Weekly
ATTACH;FMTTYPE=image/jpeg:https://www.bsv.net.au/wp-content/uploads/2019/09/group-meditation.jpg
END:VEVENT
END:VCALENDAR