BEGIN:VCALENDAR
VERSION:2.0
PRODID:-//Buddhist Society Of Victoria (BSV) - ECPv6.15.13//NONSGML v1.0//EN
CALSCALE:GREGORIAN
METHOD:PUBLISH
X-WR-CALNAME:Buddhist Society Of Victoria (BSV)
X-ORIGINAL-URL:https://www.bsv.net.au
X-WR-CALDESC:Events for Buddhist Society Of Victoria (BSV)
REFRESH-INTERVAL;VALUE=DURATION:PT1H
X-Robots-Tag:noindex
X-PUBLISHED-TTL:PT1H
BEGIN:VTIMEZONE
TZID:Australia/Melbourne
BEGIN:STANDARD
TZOFFSETFROM:+1100
TZOFFSETTO:+1000
TZNAME:AEST
DTSTART:20190406T160000
END:STANDARD
BEGIN:DAYLIGHT
TZOFFSETFROM:+1000
TZOFFSETTO:+1100
TZNAME:AEDT
DTSTART:20191005T160000
END:DAYLIGHT
BEGIN:STANDARD
TZOFFSETFROM:+1100
TZOFFSETTO:+1000
TZNAME:AEST
DTSTART:20200404T160000
END:STANDARD
BEGIN:DAYLIGHT
TZOFFSETFROM:+1000
TZOFFSETTO:+1100
TZNAME:AEDT
DTSTART:20201003T160000
END:DAYLIGHT
BEGIN:STANDARD
TZOFFSETFROM:+1100
TZOFFSETTO:+1000
TZNAME:AEST
DTSTART:20210403T160000
END:STANDARD
BEGIN:DAYLIGHT
TZOFFSETFROM:+1000
TZOFFSETTO:+1100
TZNAME:AEDT
DTSTART:20211002T160000
END:DAYLIGHT
END:VTIMEZONE
BEGIN:VTIMEZONE
TZID:UTC
BEGIN:STANDARD
TZOFFSETFROM:+0000
TZOFFSETTO:+0000
TZNAME:UTC
DTSTART:20190101T000000
END:STANDARD
END:VTIMEZONE
BEGIN:VTIMEZONE
TZID:Australia/Melbourne
BEGIN:STANDARD
TZOFFSETFROM:+1100
TZOFFSETTO:+1000
TZNAME:AEST
DTSTART:20190406T160000
END:STANDARD
BEGIN:DAYLIGHT
TZOFFSETFROM:+1000
TZOFFSETTO:+1100
TZNAME:AEDT
DTSTART:20191005T160000
END:DAYLIGHT
BEGIN:STANDARD
TZOFFSETFROM:+1100
TZOFFSETTO:+1000
TZNAME:AEST
DTSTART:20200404T160000
END:STANDARD
BEGIN:DAYLIGHT
TZOFFSETFROM:+1000
TZOFFSETTO:+1100
TZNAME:AEDT
DTSTART:20201003T160000
END:DAYLIGHT
BEGIN:STANDARD
TZOFFSETFROM:+1100
TZOFFSETTO:+1000
TZNAME:AEST
DTSTART:20210403T160000
END:STANDARD
BEGIN:DAYLIGHT
TZOFFSETFROM:+1000
TZOFFSETTO:+1100
TZNAME:AEDT
DTSTART:20211002T160000
END:DAYLIGHT
END:VTIMEZONE
BEGIN:VEVENT
DTSTART;TZID=Australia/Melbourne:20201203T180000
DTEND;TZID=Australia/Melbourne:20201203T200000
DTSTAMP:20260425T020056
CREATED:20201120T215732Z
LAST-MODIFIED:20201120T220537Z
UID:10000644-1607018400-1607025600@www.bsv.net.au
SUMMARY:Webinar: “Beyond mindfulness: The Scientific Examination of Buddhist Practice”
DESCRIPTION:Dialogue between Dr Nicholas Van Dam (The University of Melbourne) & Ajahn Brahm\nModerator: Lydia BrownDate : Thursday\, 3rd Dec’2020\nTime:  6pm Melbourne time (3pm Perth time)Webinar brief:\nOver the past 30 years\, psychological science has embraced one core aspect of Buddhist practice: mindfulness.  However\, there is less clarity about the context in which mindfulness is best situated to facilitate flourishing. Within the broader Buddhist context\, there are numerous other features and a multitude of contemplative practices\, many of which science has largely neglected. In this conversation between senior Buddhist monk Ajahn Brahm and contemplative studies researcher Dr Nicholas Van Dam\, we will explore what lies beyond mindfulness. We will look at how science can better understand contemplative practices originating from Buddhism and what the broader principles and practices might contribute to a life well-lived. We will also explore how science might inform and enrich contemporary Buddhist practice. \nTo attend\, please register here: http://go.unimelb.edu.au/55ni \nAbout the Speakers:\nAjahn Brahm’s Leadership Roles: The Abbot of Bodhinyana Monastery in Serpentine\, WA; the Spiritual Director of the Buddhist Society of Western Australia; Founding Chair of the Australian Sangha Association; Spiritual Advisor to the Buddhist Society of Victoria; and Spiritual Director of Santi Forest Monastery in New South Wales.\nMore information about Ajahn Brahm is outlined in\nhttps://bswa.org/teachers/ajahn-brahm/ajahn-brahm-bio/ \nDr Nicholas Van Dam\nSenior Lecturer in Clinical Psychology\nDeputy Director | Brain and Mental Health Hub\nMelbourne School of Psychological Sciences\nFaculty of Medicine\, Dentistry\, and Health Sciences\nProposed director for the new centre: The Centre for Contemplative Studies\, The University of Melbourne
URL:https://www.bsv.net.au/events/webinar-beyond-mindfulness-the-scientific-examination-of-buddhist-practice/
LOCATION:Victoria
CATEGORIES:Special Event,Weekly
ATTACH;FMTTYPE=image/jpeg:https://www.bsv.net.au/wp-content/uploads/2020/11/Beyond_Mindfulness.jpg
END:VEVENT
BEGIN:VEVENT
DTSTART;TZID=Australia/Melbourne:20201206T090000
DTEND;TZID=Australia/Melbourne:20201206T103000
DTSTAMP:20260425T020056
CREATED:20201120T222447Z
LAST-MODIFIED:20201120T222733Z
UID:10000671-1607245200-1607250600@www.bsv.net.au
SUMMARY:Sunday Dhamma Talk (Online) | Ajahn Nissarano
DESCRIPTION:  \n﻿﻿﻿﻿﻿﻿﻿﻿﻿﻿﻿﻿﻿﻿﻿﻿
URL:https://www.bsv.net.au/events/sunday-dhamma-talk-online-ajahn-nissarano-5/
LOCATION:Victoria
CATEGORIES:Dhamma Teaching Programs,Upcoming,Weekly
ATTACH;FMTTYPE=image/png:https://www.bsv.net.au/wp-content/uploads/2020/03/o-guided-talks.png
END:VEVENT
BEGIN:VEVENT
DTSTART;TZID=UTC:20201207T193000
DTEND;TZID=UTC:20201207T210000
DTSTAMP:20260425T020056
CREATED:20201120T222550Z
LAST-MODIFIED:20201120T222613Z
UID:10000653-1607369400-1607374800@www.bsv.net.au
SUMMARY:Monday Night Meditation | Ajahn Nissarano
DESCRIPTION:Meditation is a calm approach of healing that increase productivity\, replenish attention\, solidify memories and encourage creativity. Mindfulness training has become more popular than ever in the last decade as a strategy to relieve stress\, anxiety and depression. Join us on Weekly Monday Night Meditation in Malvern East Buddhist Society of Victoria. \n  \n﻿﻿﻿﻿﻿﻿﻿﻿﻿﻿﻿﻿﻿﻿\nMeditation is a calm approach of healing that increase productivity\, replenish attention\, solidify memories and encourage creativity. Mindfulness training has become more popular than ever in the last decade as a strategy to relieve stress\, anxiety and depression. Join us on online\, Live Dhamma Teaching .
URL:https://www.bsv.net.au/events/monday-night-meditation-ajahn-nissarano-5/
LOCATION:Victoria
CATEGORIES:Dhamma Teaching Programs,Upcoming,Weekly
ATTACH;FMTTYPE=image/png:https://www.bsv.net.au/wp-content/uploads/2020/03/o-dhamma-talks.png
END:VEVENT
BEGIN:VEVENT
DTSTART;TZID=Australia/Melbourne:20201220T090000
DTEND;TZID=Australia/Melbourne:20201220T223000
DTSTAMP:20260425T020056
CREATED:20201216T114032Z
LAST-MODIFIED:20201218T002430Z
UID:10000654-1608454800-1608503400@www.bsv.net.au
SUMMARY:Dhamma Talk - Ayya Upekkha
DESCRIPTION:Weekly Dhamma Talk. Teaching will be given by Ayya Upekkha \nTime: 9.00 am – 10.30 am\nVenue: BSV Buddhaloka Centre\n71 Darling Road\, Malvern East VIC 3145 \nInstructions for Lunch Danna: \nLunch offering to the monastic will take place at 11.00 am followed by Communal Lunch . Presently there will be no Pindapatha . Please bring a plate of food to share with the monastics and lay community. Ensure all food offered are freshly cooked and prepared in advance as the kitchen will not be accessible for cooking/heating or food preparations \nhttps://youtu.be/Cv96SMoKxh4
URL:https://www.bsv.net.au/events/https-www-bsv-net-au-events-sunday-dhamma-talk-online-ayya-upekkha-2/
LOCATION:Buddhaloka Centre\, 71 Darling Road\, Malvern East\, VIC\, 3145\, Australia
CATEGORIES:Dhamma Teaching Programs,Upcoming,Weekly
ATTACH;FMTTYPE=image/jpeg:https://www.bsv.net.au/wp-content/uploads/2020/12/Ayya-Upekkha.jpg
END:VEVENT
BEGIN:VEVENT
DTSTART;TZID=UTC:20201221T193000
DTEND;TZID=UTC:20201221T210000
DTSTAMP:20260425T020056
CREATED:20201216T120108Z
LAST-MODIFIED:20201216T120108Z
UID:10000655-1608579000-1608584400@www.bsv.net.au
SUMMARY:Monday Night Meditation (Monastic Led) | Ayya Upekkha
DESCRIPTION:Meditation is a calm approach of healing that increase productivity\, replenish attention\, solidify memories and encourage creativity. Mindfulness training has become more popular than ever in the last decade as a strategy to relieve stress\, anxiety and depression. Join us on Weekly Monday Night Meditation in Malvern East Buddhist Society of Victoria. \n  \n﻿﻿﻿﻿﻿﻿﻿﻿﻿﻿﻿﻿﻿﻿﻿﻿﻿﻿\nMeditation is a calm approach of healing that increase productivity\, replenish attention\, solidify memories and encourage creativity. Mindfulness training has become more popular than ever in the last decade as a strategy to relieve stress\, anxiety and depression. Join us on online\, Live Dhamma Teaching .
URL:https://www.bsv.net.au/events/monday-night-meditation-monastic-led-ayya-upekkha/
LOCATION:Victoria
CATEGORIES:Dhamma Teaching Programs,Upcoming,Weekly
ATTACH;FMTTYPE=image/png:https://www.bsv.net.au/wp-content/uploads/2020/03/o-dhamma-talks.png
END:VEVENT
BEGIN:VEVENT
DTSTART;TZID=UTC:20201227T090000
DTEND;TZID=UTC:20201227T103000
DTSTAMP:20260425T020056
CREATED:20201216T120720Z
LAST-MODIFIED:20201218T002340Z
UID:10000657-1609059600-1609065000@www.bsv.net.au
SUMMARY:Dhamma Talk - Venerable Nissarano
DESCRIPTION:Weekly Dhamma Talk. Teaching will be given by Ajahn Nissarano \nTime: 9.30 am – 10.30 am\nVenue: BSV Buddhaloka Centre\n71 Darling Road\, Malvern East VIC 3145 \nInstructions for Lunch Danna: \nLunch offering to the monastic will take place at 11.00 am followed by Communal Lunch . Presently there will be no Pindapatha . Please bring a plate of food to share with the monastics and lay community. Ensure all food offered are freshly cooked and prepared in advance as the kitchen will not be accessible for cooking/heating or food preparations \nhttps://youtu.be/_6BA6YAEdks
URL:https://www.bsv.net.au/events/dhamma-talk-venerable-nissarano/
LOCATION:Buddhaloka Centre\, 71 Darling Road\, Malvern East\, VIC\, 3145\, Australia
CATEGORIES:Dhamma Teaching Programs,Upcoming,Weekly
ATTACH;FMTTYPE=image/png:https://www.bsv.net.au/wp-content/uploads/2019/11/Ajahn-Nissarano-SQ.png
END:VEVENT
BEGIN:VEVENT
DTSTART;TZID=UTC:20201228T193000
DTEND;TZID=UTC:20201228T210000
DTSTAMP:20260425T020056
CREATED:20201216T121218Z
LAST-MODIFIED:20201216T121218Z
UID:10000659-1609183800-1609189200@www.bsv.net.au
SUMMARY:Monday Night Meditation | Ajahn Nissarano
DESCRIPTION:Meditation is a calm approach of healing that increase productivity\, replenish attention\, solidify memories and encourage creativity. Mindfulness training has become more popular than ever in the last decade as a strategy to relieve stress\, anxiety and depression. Join us on Weekly Monday Night Meditation in Malvern East Buddhist Society of Victoria. \n  \n﻿﻿﻿﻿﻿﻿﻿﻿﻿﻿﻿﻿﻿﻿﻿\nMeditation is a calm approach of healing that increase productivity\, replenish attention\, solidify memories and encourage creativity. Mindfulness training has become more popular than ever in the last decade as a strategy to relieve stress\, anxiety and depression. Join us on online\, Live Dhamma Teaching .
URL:https://www.bsv.net.au/events/monday-night-meditation-ajahn-nissarano-6/
LOCATION:Victoria
CATEGORIES:Dhamma Teaching Programs,Upcoming,Weekly
ATTACH;FMTTYPE=image/png:https://www.bsv.net.au/wp-content/uploads/2020/03/o-dhamma-talks.png
END:VEVENT
BEGIN:VEVENT
DTSTART;TZID=Australia/Melbourne:20201231T221500
DTEND;TZID=Australia/Melbourne:20201231T235900
DTSTAMP:20260425T020056
CREATED:20201217T034957Z
LAST-MODIFIED:20201217T062835Z
UID:10000661-1609452900-1609459140@www.bsv.net.au
SUMMARY:LIVE New Year Chanting & Blessing (ONLINE)
DESCRIPTION:  \n﻿﻿﻿﻿﻿﻿﻿﻿﻿﻿﻿﻿﻿﻿﻿﻿﻿
URL:https://www.bsv.net.au/events/live-new-year-chanting-blessing-31-dec-2020/
LOCATION:Victoria
CATEGORIES:Dhamma Teaching Programs,Upcoming,Weekly
ATTACH;FMTTYPE=image/png:https://www.bsv.net.au/wp-content/uploads/2020/12/NYE-2021.png
END:VEVENT
END:VCALENDAR