BEGIN:VCALENDAR
VERSION:2.0
PRODID:-//Buddhist Society Of Victoria (BSV) - ECPv6.15.13//NONSGML v1.0//EN
CALSCALE:GREGORIAN
METHOD:PUBLISH
X-WR-CALNAME:Buddhist Society Of Victoria (BSV)
X-ORIGINAL-URL:https://www.bsv.net.au
X-WR-CALDESC:Events for Buddhist Society Of Victoria (BSV)
REFRESH-INTERVAL;VALUE=DURATION:PT1H
X-Robots-Tag:noindex
X-PUBLISHED-TTL:PT1H
BEGIN:VTIMEZONE
TZID:Australia/Melbourne
BEGIN:STANDARD
TZOFFSETFROM:+1100
TZOFFSETTO:+1000
TZNAME:AEST
DTSTART:20190406T160000
END:STANDARD
BEGIN:DAYLIGHT
TZOFFSETFROM:+1000
TZOFFSETTO:+1100
TZNAME:AEDT
DTSTART:20191005T160000
END:DAYLIGHT
BEGIN:STANDARD
TZOFFSETFROM:+1100
TZOFFSETTO:+1000
TZNAME:AEST
DTSTART:20200404T160000
END:STANDARD
BEGIN:DAYLIGHT
TZOFFSETFROM:+1000
TZOFFSETTO:+1100
TZNAME:AEDT
DTSTART:20201003T160000
END:DAYLIGHT
BEGIN:STANDARD
TZOFFSETFROM:+1100
TZOFFSETTO:+1000
TZNAME:AEST
DTSTART:20210403T160000
END:STANDARD
BEGIN:DAYLIGHT
TZOFFSETFROM:+1000
TZOFFSETTO:+1100
TZNAME:AEDT
DTSTART:20211002T160000
END:DAYLIGHT
END:VTIMEZONE
BEGIN:VTIMEZONE
TZID:UTC
BEGIN:STANDARD
TZOFFSETFROM:+0000
TZOFFSETTO:+0000
TZNAME:UTC
DTSTART:20190101T000000
END:STANDARD
END:VTIMEZONE
BEGIN:VTIMEZONE
TZID:UTC
BEGIN:STANDARD
TZOFFSETFROM:+0000
TZOFFSETTO:+0000
TZNAME:UTC
DTSTART:20190101T000000
END:STANDARD
END:VTIMEZONE
BEGIN:VEVENT
DTSTART;TZID=Australia/Melbourne:20201101T090000
DTEND;TZID=Australia/Melbourne:20201101T103000
DTSTAMP:20260425T020058
CREATED:20201009T060219Z
LAST-MODIFIED:20201015T101337Z
UID:10000573-1604221200-1604226600@www.bsv.net.au
SUMMARY:Sunday Dhamma Talk (Online) | Ajahn Nissarano
DESCRIPTION:  \n﻿﻿﻿﻿﻿﻿﻿﻿﻿﻿﻿﻿﻿﻿﻿﻿
URL:https://www.bsv.net.au/events/sunday-dhamma-talk-online-ajahn-nissarano-4/
LOCATION:Victoria
ATTACH;FMTTYPE=image/png:https://www.bsv.net.au/wp-content/uploads/2020/03/o-guided-talks.png
END:VEVENT
BEGIN:VEVENT
DTSTART;TZID=UTC:20201102T193000
DTEND;TZID=UTC:20201102T210000
DTSTAMP:20260425T020058
CREATED:20201009T060247Z
LAST-MODIFIED:20201009T060247Z
UID:10000574-1604345400-1604350800@www.bsv.net.au
SUMMARY:Monday Night Meditation | Ajahn Nissarano
DESCRIPTION:Meditation is a calm approach of healing that increase productivity\, replenish attention\, solidify memories and encourage creativity. Mindfulness training has become more popular than ever in the last decade as a strategy to relieve stress\, anxiety and depression. Join us on Weekly Monday Night Meditation in Malvern East Buddhist Society of Victoria. \n  \n﻿﻿﻿﻿﻿﻿﻿﻿﻿﻿﻿﻿﻿\nMeditation is a calm approach of healing that increase productivity\, replenish attention\, solidify memories and encourage creativity. Mindfulness training has become more popular than ever in the last decade as a strategy to relieve stress\, anxiety and depression. Join us on online\, Live Dhamma Teaching .
URL:https://www.bsv.net.au/events/monday-night-meditation-ajahn-nissarano-4/
LOCATION:Victoria
CATEGORIES:Dhamma Teaching Programs,Upcoming,Weekly
ATTACH;FMTTYPE=image/png:https://www.bsv.net.au/wp-content/uploads/2020/03/o-dhamma-talks.png
END:VEVENT
BEGIN:VEVENT
DTSTART;TZID=Australia/Melbourne:20201108T090000
DTEND;TZID=Australia/Melbourne:20201108T103000
DTSTAMP:20260425T020058
CREATED:20201103T035628Z
LAST-MODIFIED:20201103T035628Z
UID:10000575-1604826000-1604831400@www.bsv.net.au
SUMMARY:Sunday Dhamma Talk (Online) | Bhante Cunda
DESCRIPTION:  \n﻿﻿﻿﻿﻿﻿﻿﻿﻿﻿﻿﻿﻿﻿﻿﻿﻿﻿﻿
URL:https://www.bsv.net.au/events/sunday-dhamma-talk-online-bhante-cunda-3/
LOCATION:Victoria
CATEGORIES:Dhamma Teaching Programs,Upcoming,Weekly
ATTACH;FMTTYPE=image/png:https://www.bsv.net.au/wp-content/uploads/2020/03/o-guided-talks.png
END:VEVENT
BEGIN:VEVENT
DTSTART;TZID=UTC:20201109T193000
DTEND;TZID=UTC:20201109T210000
DTSTAMP:20260425T020058
CREATED:20201103T035711Z
LAST-MODIFIED:20201103T035711Z
UID:10000576-1604950200-1604955600@www.bsv.net.au
SUMMARY:Monday Night Meditation (Monastic Led) | Bhante Cunda
DESCRIPTION:Meditation is a calm approach of healing that increase productivity\, replenish attention\, solidify memories and encourage creativity. Mindfulness training has become more popular than ever in the last decade as a strategy to relieve stress\, anxiety and depression. Join us on Weekly Monday Night Meditation in Malvern East Buddhist Society of Victoria. \n  \n﻿﻿﻿﻿﻿﻿﻿﻿﻿﻿﻿﻿﻿﻿﻿\nMeditation is a calm approach of healing that increase productivity\, replenish attention\, solidify memories and encourage creativity. Mindfulness training has become more popular than ever in the last decade as a strategy to relieve stress\, anxiety and depression. Join us on online\, Live Dhamma Teaching .
URL:https://www.bsv.net.au/events/monday-night-meditation-monastic-led-bhante-cunda-3/
LOCATION:Victoria
CATEGORIES:Dhamma Teaching Programs,Upcoming,Weekly
ATTACH;FMTTYPE=image/png:https://www.bsv.net.au/wp-content/uploads/2020/03/o-dhamma-talks.png
END:VEVENT
BEGIN:VEVENT
DTSTART;TZID=Australia/Melbourne:20201115T090000
DTEND;TZID=Australia/Melbourne:20201115T103000
DTSTAMP:20260425T020058
CREATED:20201103T040040Z
LAST-MODIFIED:20201103T040040Z
UID:10000577-1605430800-1605436200@www.bsv.net.au
SUMMARY:Sunday Dhamma Talk (Online) | Bhante Bodhi
DESCRIPTION:  \n﻿﻿﻿﻿﻿﻿﻿﻿﻿﻿﻿﻿﻿﻿﻿﻿﻿﻿﻿﻿﻿﻿﻿﻿
URL:https://www.bsv.net.au/events/sunday-dhamma-talk-online-bhante-bodhi-4/
LOCATION:Victoria
CATEGORIES:Dhamma Teaching Programs,Upcoming,Weekly
ATTACH;FMTTYPE=image/png:https://www.bsv.net.au/wp-content/uploads/2020/03/o-guided-talks.png
END:VEVENT
BEGIN:VEVENT
DTSTART;TZID=UTC:20201116T193000
DTEND;TZID=UTC:20201116T210000
DTSTAMP:20260425T020058
CREATED:20201103T040136Z
LAST-MODIFIED:20201103T040136Z
UID:10000578-1605555000-1605560400@www.bsv.net.au
SUMMARY:Monday Night Meditation (Monastic Led) | Bhante Bodhi
DESCRIPTION:Meditation is a calm approach of healing that increase productivity\, replenish attention\, solidify memories and encourage creativity. Mindfulness training has become more popular than ever in the last decade as a strategy to relieve stress\, anxiety and depression. Join us on Weekly Monday Night Meditation in Malvern East Buddhist Society of Victoria. \n  \n﻿﻿﻿﻿﻿﻿﻿﻿﻿﻿﻿﻿﻿﻿﻿﻿\nMeditation is a calm approach of healing that increase productivity\, replenish attention\, solidify memories and encourage creativity. Mindfulness training has become more popular than ever in the last decade as a strategy to relieve stress\, anxiety and depression. Join us on online\, Live Dhamma Teaching .
URL:https://www.bsv.net.au/events/monday-night-meditation-monastic-led-bhante-bodhi-4/
LOCATION:Victoria
CATEGORIES:Dhamma Teaching Programs,Upcoming,Weekly
ATTACH;FMTTYPE=image/png:https://www.bsv.net.au/wp-content/uploads/2020/03/o-dhamma-talks.png
END:VEVENT
BEGIN:VEVENT
DTSTART;TZID=Australia/Melbourne:20201122T090000
DTEND;TZID=Australia/Melbourne:20201122T103000
DTSTAMP:20260425T020058
CREATED:20201103T040714Z
LAST-MODIFIED:20201103T040714Z
UID:10000685-1606035600-1606041000@www.bsv.net.au
SUMMARY:Sunday Dhamma Talk (Online) | Bhante Aranavihari
DESCRIPTION:  \n﻿﻿﻿﻿﻿﻿﻿﻿﻿﻿﻿﻿﻿﻿﻿﻿﻿﻿﻿﻿﻿﻿
URL:https://www.bsv.net.au/events/sunday-dhamma-talk-online-bhante-aranavihari-4/
LOCATION:Victoria
CATEGORIES:Dhamma Teaching Programs,Upcoming,Weekly
ATTACH;FMTTYPE=image/png:https://www.bsv.net.au/wp-content/uploads/2020/03/o-guided-talks.png
END:VEVENT
BEGIN:VEVENT
DTSTART;TZID=UTC:20201123T193000
DTEND;TZID=UTC:20201123T210000
DTSTAMP:20260425T020058
CREATED:20201120T221839Z
LAST-MODIFIED:20201120T221839Z
UID:10000648-1606159800-1606165200@www.bsv.net.au
SUMMARY:Monday Night Meditation (Monastic Led) | Bhante Aranavihari
DESCRIPTION:Meditation is a calm approach of healing that increase productivity\, replenish attention\, solidify memories and encourage creativity. Mindfulness training has become more popular than ever in the last decade as a strategy to relieve stress\, anxiety and depression. Join us on Weekly Monday Night Meditation in Malvern East Buddhist Society of Victoria. \n  \n﻿﻿﻿﻿﻿﻿﻿﻿﻿﻿﻿﻿﻿﻿﻿﻿\nMeditation is a calm approach of healing that increase productivity\, replenish attention\, solidify memories and encourage creativity. Mindfulness training has become more popular than ever in the last decade as a strategy to relieve stress\, anxiety and depression. Join us on online\, Live Dhamma Teaching .
URL:https://www.bsv.net.au/events/monday-night-meditation-monastic-led-bhante-aranavihari-4/
LOCATION:Victoria
CATEGORIES:Dhamma Teaching Programs,Upcoming,Weekly
ATTACH;FMTTYPE=image/png:https://www.bsv.net.au/wp-content/uploads/2020/03/o-dhamma-talks.png
END:VEVENT
BEGIN:VEVENT
DTSTART;TZID=UTC:20201127T200000
DTEND;TZID=UTC:20201128T210000
DTSTAMP:20260425T020058
CREATED:20201108T122107Z
LAST-MODIFIED:20201120T220630Z
UID:10000673-1606507200-1606597200@www.bsv.net.au
SUMMARY:Online Monthly Day Meditation Retreat - Nov 2020
DESCRIPTION:The monastics at Newbury Buddhist Monastery have now emerged from the three months Rains Retreat 2020. The three Bhantes from Bodhinyana (Bhantes Cittapalo\, Cunda and Bodhidhaja) will be returning to WA on 20 November and self-quarantining for 14 days before they can join the monastic community in WA. Bhantes Cunda and Bodhidhaja have offered to conduct the BSV Meditation Day on 27/28 November remotely from WA via Zoom. \nProgram \nTalks about Meditation & how to establish/grow Wholesome Habits\,Guided Meditations\, Personal Practice\, Q&A and Group Interviews. \nTimings: Friday 27 November 2020 8pm toSaturday 28 November 2020 9pmClick here to view the proposed timetable(All timings are in Melbourne-Time\, GMT+11) \nVenue: Online via Zoom (registration is required) \nSome information about how it will work \nOnce you have registered you will receive a confirmation email. Closer to the day\, you will also receive a final timetable (in PDF format) with active links to join the various meetings on offer and some more detailed information. \nAll the meditations in the “Digital Meditation Hall” are optional\, they will help with motivation\, and accountability and they will also provide a sense of community\, despite joining in from your homes. Participants will be able to sit together in a virtual space of silence across different locations and time zones. Please feel free to meditate by yourself without a screen in front of you and for a period of time suitable to your circumstances and disposition. \nThe “Group Interview” sessions are also optional. They will be limited to a smaller group of devices/people\, to keep them more personal. \nA Q&A session for all participants will be conducted on Saturday evening. You will be able to ask questions via a Google Form or via the Zoom chat function during the actual event. \nPlease only join if you have used Zoom before and are experienced. We will not be able to offer tech support prior or during the event\, as it is run by the monastics themselves. Thank you for your understanding. \nIf you are from a different time zone and cannot attend all the sessions\, no problem. We have enough capacity for many participants this time. \nRegistration \nIf you are interested to attend this online event\, please fill in the Google Form here to register. \nRegistrations will close on Thursday 26 November 2020 at 8pm (Melbourne-Time\, GMT+11). \n____________________________________________________________________________ \nNotes: \nYou have to be at least 18 years of age in order to attend BSV retreats. This is a BSV policy.This offer is free of charge. If you wish to donate to the BSV\, feel free to do so here.
URL:https://www.bsv.net.au/events/online-monthly-day-meditation-retreat-nov-2020/
LOCATION:Victoria
CATEGORIES:Retreats,Upcoming,Weekly
END:VEVENT
BEGIN:VEVENT
DTSTART;TZID=Australia/Melbourne:20201129T090000
DTEND;TZID=Australia/Melbourne:20201129T103000
DTSTAMP:20260425T020058
CREATED:20201120T221522Z
LAST-MODIFIED:20201120T221522Z
UID:10000646-1606640400-1606645800@www.bsv.net.au
SUMMARY:Sunday Dhamma Talk (Online) | Ayya Upekkha
DESCRIPTION:  \n﻿﻿﻿﻿﻿﻿﻿﻿﻿﻿﻿﻿﻿﻿﻿﻿﻿﻿﻿﻿﻿﻿﻿
URL:https://www.bsv.net.au/events/sunday-dhamma-talk-online-ayya-upekkha-1/
LOCATION:Victoria
CATEGORIES:Dhamma Teaching Programs,Upcoming,Weekly
ATTACH;FMTTYPE=image/png:https://www.bsv.net.au/wp-content/uploads/2020/03/o-guided-talks.png
END:VEVENT
BEGIN:VEVENT
DTSTART;TZID=UTC:20201130T193000
DTEND;TZID=UTC:20201130T210000
DTSTAMP:20260425T020058
CREATED:20201103T040805Z
LAST-MODIFIED:20201120T221557Z
UID:10000675-1606764600-1606770000@www.bsv.net.au
SUMMARY:Monday Night Meditation (Monastic Led) | Ayya Upekkha
DESCRIPTION:Meditation is a calm approach of healing that increase productivity\, replenish attention\, solidify memories and encourage creativity. Mindfulness training has become more popular than ever in the last decade as a strategy to relieve stress\, anxiety and depression. Join us on Weekly Monday Night Meditation in Malvern East Buddhist Society of Victoria. \n  \n﻿﻿﻿﻿﻿﻿﻿﻿﻿﻿﻿﻿﻿﻿﻿﻿﻿\nMeditation is a calm approach of healing that increase productivity\, replenish attention\, solidify memories and encourage creativity. Mindfulness training has become more popular than ever in the last decade as a strategy to relieve stress\, anxiety and depression. Join us on online\, Live Dhamma Teaching .
URL:https://www.bsv.net.au/events/monday-night-meditation-monastic-led-ayya-upekkha-1/
LOCATION:Victoria
CATEGORIES:Dhamma Teaching Programs,Upcoming,Weekly
ATTACH;FMTTYPE=image/png:https://www.bsv.net.au/wp-content/uploads/2020/03/o-dhamma-talks.png
END:VEVENT
END:VCALENDAR