BEGIN:VCALENDAR
VERSION:2.0
PRODID:-//Buddhist Society Of Victoria (BSV) - ECPv6.15.13//NONSGML v1.0//EN
CALSCALE:GREGORIAN
METHOD:PUBLISH
X-WR-CALNAME:Buddhist Society Of Victoria (BSV)
X-ORIGINAL-URL:https://www.bsv.net.au
X-WR-CALDESC:Events for Buddhist Society Of Victoria (BSV)
REFRESH-INTERVAL;VALUE=DURATION:PT1H
X-Robots-Tag:noindex
X-PUBLISHED-TTL:PT1H
BEGIN:VTIMEZONE
TZID:Australia/Melbourne
BEGIN:STANDARD
TZOFFSETFROM:+1100
TZOFFSETTO:+1000
TZNAME:AEST
DTSTART:20190406T160000
END:STANDARD
BEGIN:DAYLIGHT
TZOFFSETFROM:+1000
TZOFFSETTO:+1100
TZNAME:AEDT
DTSTART:20191005T160000
END:DAYLIGHT
BEGIN:STANDARD
TZOFFSETFROM:+1100
TZOFFSETTO:+1000
TZNAME:AEST
DTSTART:20200404T160000
END:STANDARD
BEGIN:DAYLIGHT
TZOFFSETFROM:+1000
TZOFFSETTO:+1100
TZNAME:AEDT
DTSTART:20201003T160000
END:DAYLIGHT
BEGIN:STANDARD
TZOFFSETFROM:+1100
TZOFFSETTO:+1000
TZNAME:AEST
DTSTART:20210403T160000
END:STANDARD
BEGIN:DAYLIGHT
TZOFFSETFROM:+1000
TZOFFSETTO:+1100
TZNAME:AEDT
DTSTART:20211002T160000
END:DAYLIGHT
END:VTIMEZONE
BEGIN:VTIMEZONE
TZID:UTC
BEGIN:STANDARD
TZOFFSETFROM:+0000
TZOFFSETTO:+0000
TZNAME:UTC
DTSTART:20190101T000000
END:STANDARD
END:VTIMEZONE
BEGIN:VEVENT
DTSTART;TZID=Australia/Melbourne:20201004T090000
DTEND;TZID=Australia/Melbourne:20201004T103000
DTSTAMP:20260425T020058
CREATED:20200920T105528Z
LAST-MODIFIED:20200920T105528Z
UID:10000681-1601802000-1601807400@www.bsv.net.au
SUMMARY:Sunday Dhamma Talk (Online) | Bhante Cunda
DESCRIPTION:  \n﻿﻿﻿﻿﻿﻿﻿﻿﻿﻿﻿﻿﻿﻿﻿﻿﻿﻿
URL:https://www.bsv.net.au/events/sunday-dhamma-talk-online-bhante-cunda-2/
LOCATION:Victoria
CATEGORIES:Dhamma Teaching Programs,Upcoming,Weekly
ATTACH;FMTTYPE=image/png:https://www.bsv.net.au/wp-content/uploads/2020/03/o-guided-talks.png
END:VEVENT
BEGIN:VEVENT
DTSTART;TZID=UTC:20201005T193000
DTEND;TZID=UTC:20201005T210000
DTSTAMP:20260425T020058
CREATED:20200920T105746Z
LAST-MODIFIED:20200920T105746Z
UID:10000682-1601926200-1601931600@www.bsv.net.au
SUMMARY:Monday Night Meditation (Monastic Led) | Bhante Cunda
DESCRIPTION:Meditation is a calm approach of healing that increase productivity\, replenish attention\, solidify memories and encourage creativity. Mindfulness training has become more popular than ever in the last decade as a strategy to relieve stress\, anxiety and depression. Join us on Weekly Monday Night Meditation in Malvern East Buddhist Society of Victoria. \n  \n﻿﻿﻿﻿﻿﻿﻿﻿﻿﻿﻿﻿﻿﻿\nMeditation is a calm approach of healing that increase productivity\, replenish attention\, solidify memories and encourage creativity. Mindfulness training has become more popular than ever in the last decade as a strategy to relieve stress\, anxiety and depression. Join us on online\, Live Dhamma Teaching .
URL:https://www.bsv.net.au/events/monday-night-meditation-monastic-led-bhante-cunda-2/
LOCATION:Victoria
CATEGORIES:Dhamma Teaching Programs,Upcoming,Weekly
ATTACH;FMTTYPE=image/png:https://www.bsv.net.au/wp-content/uploads/2020/03/o-dhamma-talks.png
END:VEVENT
BEGIN:VEVENT
DTSTART;TZID=Australia/Melbourne:20201011T090000
DTEND;TZID=Australia/Melbourne:20201011T103000
DTSTAMP:20260425T020058
CREATED:20200920T105847Z
LAST-MODIFIED:20200920T105847Z
UID:10000683-1602406800-1602412200@www.bsv.net.au
SUMMARY:Sunday Dhamma Talk (Online) | Bhante Aranavihari
DESCRIPTION:  \n﻿﻿﻿﻿﻿﻿﻿﻿﻿﻿﻿﻿﻿﻿﻿﻿﻿﻿﻿﻿
URL:https://www.bsv.net.au/events/sunday-dhamma-talk-online-bhante-aranavihari-3/
LOCATION:Victoria
CATEGORIES:Dhamma Teaching Programs,Upcoming,Weekly
ATTACH;FMTTYPE=image/png:https://www.bsv.net.au/wp-content/uploads/2020/03/o-guided-talks.png
END:VEVENT
BEGIN:VEVENT
DTSTART;TZID=UTC:20201012T193000
DTEND;TZID=UTC:20201012T210000
DTSTAMP:20260425T020058
CREATED:20200920T110013Z
LAST-MODIFIED:20200920T110013Z
UID:10000684-1602531000-1602536400@www.bsv.net.au
SUMMARY:Monday Night Meditation (Monastic Led) | Bhante Aranavihari
DESCRIPTION:Meditation is a calm approach of healing that increase productivity\, replenish attention\, solidify memories and encourage creativity. Mindfulness training has become more popular than ever in the last decade as a strategy to relieve stress\, anxiety and depression. Join us on Weekly Monday Night Meditation in Malvern East Buddhist Society of Victoria. \n  \n﻿﻿﻿﻿﻿﻿﻿﻿﻿﻿﻿﻿﻿﻿﻿\nMeditation is a calm approach of healing that increase productivity\, replenish attention\, solidify memories and encourage creativity. Mindfulness training has become more popular than ever in the last decade as a strategy to relieve stress\, anxiety and depression. Join us on online\, Live Dhamma Teaching .
URL:https://www.bsv.net.au/events/monday-night-meditation-monastic-led-bhante-aranavihari-3/
LOCATION:Victoria
CATEGORIES:Dhamma Teaching Programs,Upcoming,Weekly
ATTACH;FMTTYPE=image/png:https://www.bsv.net.au/wp-content/uploads/2020/03/o-dhamma-talks.png
END:VEVENT
BEGIN:VEVENT
DTSTART;TZID=Australia/Melbourne:20201018T090000
DTEND;TZID=Australia/Melbourne:20201018T103000
DTSTAMP:20260425T020058
CREATED:20201009T055449Z
LAST-MODIFIED:20201009T055656Z
UID:10000569-1603011600-1603017000@www.bsv.net.au
SUMMARY:Sunday Dhamma Talk (Online) | Bhante Bodhi
DESCRIPTION:  \n﻿﻿﻿﻿﻿﻿﻿﻿﻿﻿﻿﻿﻿﻿﻿﻿﻿﻿﻿﻿﻿﻿﻿
URL:https://www.bsv.net.au/events/sunday-dhamma-talk-online-bhante-bodhi-3/
LOCATION:Victoria
CATEGORIES:Dhamma Teaching Programs,Upcoming,Weekly
ATTACH;FMTTYPE=image/png:https://www.bsv.net.au/wp-content/uploads/2020/03/o-guided-talks.png
END:VEVENT
BEGIN:VEVENT
DTSTART;TZID=UTC:20201019T193000
DTEND;TZID=UTC:20201019T210000
DTSTAMP:20260425T020058
CREATED:20201009T055624Z
LAST-MODIFIED:20201009T055738Z
UID:10000570-1603135800-1603141200@www.bsv.net.au
SUMMARY:Monday Night Meditation (Monastic Led) | Bhante Bodhi
DESCRIPTION:Meditation is a calm approach of healing that increase productivity\, replenish attention\, solidify memories and encourage creativity. Mindfulness training has become more popular than ever in the last decade as a strategy to relieve stress\, anxiety and depression. Join us on Weekly Monday Night Meditation in Malvern East Buddhist Society of Victoria. \n  \n﻿﻿﻿﻿﻿﻿﻿﻿﻿﻿﻿﻿﻿﻿﻿\nMeditation is a calm approach of healing that increase productivity\, replenish attention\, solidify memories and encourage creativity. Mindfulness training has become more popular than ever in the last decade as a strategy to relieve stress\, anxiety and depression. Join us on online\, Live Dhamma Teaching .
URL:https://www.bsv.net.au/events/monday-night-meditation-monastic-led-bhante-bodhi-3/
LOCATION:Victoria
CATEGORIES:Dhamma Teaching Programs,Upcoming,Weekly
ATTACH;FMTTYPE=image/png:https://www.bsv.net.au/wp-content/uploads/2020/03/o-dhamma-talks.png
END:VEVENT
BEGIN:VEVENT
DTSTART;TZID=Australia/Melbourne:20201025T090000
DTEND;TZID=Australia/Melbourne:20201025T103000
DTSTAMP:20260425T020058
CREATED:20201009T055924Z
LAST-MODIFIED:20201009T055924Z
UID:10000571-1603616400-1603621800@www.bsv.net.au
SUMMARY:Sunday Dhamma Talk (Online) | Bhante Cittapalo
DESCRIPTION:  \n﻿﻿﻿﻿﻿﻿﻿﻿﻿﻿﻿﻿﻿﻿﻿﻿﻿﻿﻿﻿﻿﻿
URL:https://www.bsv.net.au/events/sunday-dhamma-talk-online-bhante-cittapalo-3/
LOCATION:Victoria
CATEGORIES:Dhamma Teaching Programs,Upcoming,Weekly
ATTACH;FMTTYPE=image/png:https://www.bsv.net.au/wp-content/uploads/2020/03/o-guided-talks.png
END:VEVENT
BEGIN:VEVENT
DTSTART;TZID=UTC:20201026T193000
DTEND;TZID=UTC:20201026T210000
DTSTAMP:20260425T020058
CREATED:20201009T060027Z
LAST-MODIFIED:20201103T041642Z
UID:10000572-1603740600-1603746000@www.bsv.net.au
SUMMARY:Monday Night Meditation (Monastic Led) | Bhante Cittapalo
DESCRIPTION:Meditation is a calm approach of healing that increase productivity\, replenish attention\, solidify memories and encourage creativity. Mindfulness training has become more popular than ever in the last decade as a strategy to relieve stress\, anxiety and depression. Join us on Weekly Monday Night Meditation in Malvern East Buddhist Society of Victoria. \n  \n﻿﻿﻿﻿﻿﻿﻿﻿﻿﻿﻿﻿﻿﻿﻿﻿﻿\nMeditation is a calm approach of healing that increase productivity\, replenish attention\, solidify memories and encourage creativity. Mindfulness training has become more popular than ever in the last decade as a strategy to relieve stress\, anxiety and depression. Join us on online\, Live Dhamma Teaching .
URL:https://www.bsv.net.au/events/monday-night-meditation-monastic-led-bhante-cittapalo-3/
LOCATION:Victoria
CATEGORIES:Dhamma Teaching Programs,Upcoming,Weekly
ATTACH;FMTTYPE=image/png:https://www.bsv.net.au/wp-content/uploads/2020/03/o-dhamma-talks.png
END:VEVENT
END:VCALENDAR