BEGIN:VCALENDAR
VERSION:2.0
PRODID:-//Buddhist Society Of Victoria (BSV) - ECPv5.2.1//NONSGML v1.0//EN
CALSCALE:GREGORIAN
METHOD:PUBLISH
X-WR-CALNAME:Buddhist Society Of Victoria (BSV)
X-ORIGINAL-URL:https://www.bsv.net.au
X-WR-CALDESC:Events for Buddhist Society Of Victoria (BSV)
BEGIN:VTIMEZONE
TZID:Australia/Melbourne
BEGIN:STANDARD
TZOFFSETFROM:+1100
TZOFFSETTO:+1000
TZNAME:AEST
DTSTART:20210403T160000
END:STANDARD
BEGIN:DAYLIGHT
TZOFFSETFROM:+1000
TZOFFSETTO:+1100
TZNAME:AEDT
DTSTART:20211002T160000
END:DAYLIGHT
END:VTIMEZONE
BEGIN:VEVENT
DTSTART;TZID=Australia/Melbourne:20210307T090000
DTEND;TZID=Australia/Melbourne:20210307T103000
DTSTAMP:20210301T143251
CREATED:20210219T010846Z
LAST-MODIFIED:20210219T010846Z
UID:4192-1615107600-1615113000@www.bsv.net.au
SUMMARY:Sunday Dhamma Talk | Ajahn Nissarano
DESCRIPTION:Weekly Dhamma Talk. Teaching will be given by Ajahn Nissarano\nTime: 9.30 am – 10.30 am\nVenue: BSV Buddhaloka Centre\n71 Darling Road\, Malvern East VIC 3145 \nInstructions for Lunch Danna: \nLunch offering to the monastic will take place at 11.00 am followed by Communal Lunch . Presently there will be no Pindapatha . Please bring a plate of food to share with the monastics and lay community. Ensure all food offered are freshly cooked and prepared in advance as the kitchen will not be accessible for cooking/heating or food preparations
URL:https://www.bsv.net.au/events/sunday-dhamma-talk-ajahn-nissarano-3/
LOCATION:Buddhaloka Centre\, 71 Darling Road\, Malvern East\, VIC\, 3145\, Australia
CATEGORIES:Dhamma Teaching Programs,Upcoming,Weekly
ATTACH;FMTTYPE=image/png:https://www.bsv.net.au/wp-content/uploads/2019/11/Ajahn-Nissarano-SQ.png
END:VEVENT
END:VCALENDAR