BEGIN:VCALENDAR
VERSION:2.0
PRODID:-//Buddhist Society Of Victoria (BSV) - ECPv5.2.1//NONSGML v1.0//EN
CALSCALE:GREGORIAN
METHOD:PUBLISH
X-WR-CALNAME:Buddhist Society Of Victoria (BSV)
X-ORIGINAL-URL:https://www.bsv.net.au
X-WR-CALDESC:Events for Buddhist Society Of Victoria (BSV)
BEGIN:VTIMEZONE
TZID:Australia/Melbourne
BEGIN:STANDARD
TZOFFSETFROM:+1100
TZOFFSETTO:+1000
TZNAME:AEST
DTSTART:20210403T160000
END:STANDARD
BEGIN:DAYLIGHT
TZOFFSETFROM:+1000
TZOFFSETTO:+1100
TZNAME:AEDT
DTSTART:20211002T160000
END:DAYLIGHT
END:VTIMEZONE
BEGIN:VEVENT
DTSTART;TZID=Australia/Melbourne:20210129T190000
DTEND;TZID=Australia/Melbourne:20210129T203000
DTSTAMP:20210301T143022
CREATED:20210128T112003Z
LAST-MODIFIED:20210129T054759Z
UID:4154-1611946800-1611952200@www.bsv.net.au
SUMMARY:An online Talk on the History of Bhikkunis & The Significance of NBM
DESCRIPTION:An online Talk on the History of Bhikkunis & The Significance of NBM\n~ A Special Event hosted by BSV – NBM and CITYZEN. \nDate: 29 Jan. 2021\, (this Friday)\nTime: 7pm Melbourne time / 4pm Singapore & Malaysia time \nYou can view via Zoom or Youtube as follows: \nBy ZOOM – Click this link here:\nMeeting ID: 933 9593 3196\nPasscode: nbm \nBy YouTube LIVE\, please click this link: – https://youtu.be/YoDKcn6ZU7s\n(The video will only be available during the LIVE event period.) \nWelcome to ask questions via Zoom / YouTube Live Chat during the event. \n~~~~~~~~~~\nEvent Rundown: \n1. Welcome Message / Introduction to NBM and nuns – Ayya Upekkha\n2. Welcome Speech by CITYZEN’s Rep – Kav\n3. Invitation and Greetings by CITYZEN’s Rep – Kav \nA. Pre-recording Session (~1 hour)\n4.. Initial establishment of the Bhikkhuni Order in India during Lord Buddha’s time – presented by Ayya Suvira\n5. Establishment of the bhikkhuni lineage in Sri Lanka – presented by Ayya Sela\n6. Spread of bhikkhuni lineage to China and northern countries in Asia – presented by Ayya Sankappa\n7. Revival of Sri Lanka’s Bhikkhuni lineage in Sri Lanka after an absence of about 1000 years – presented by Ranjini de Silva + extract from Ayya Kusuma’s interview with Monk Jag and Ayya Upekkha at BSV in 2013 \nB. Live Session + Q&A (~0.5 hour)\n8. The first bhikkhuni ordination in Australia – presented by Ayya Upekkha\n9. Significance of NBM (a development from Sanghamittarama and BSV) – presented by Ayya Upekkha\n10. Q&A – Quincy\, President of CITYZEN\, to give invitation to ask questions to Ayya Upekkha\, Ayya Suvira\, Ayya Sela\, Ayya Sankappa and Ranjani de Silva\n11. Conclusion message – CITYZEN President Quincy\n12. Message of thanks to CITYZEN for initiating this program\, NBM nuns for their contribution and to all participants – Ayya Upekkha\nEnd with: Dedication of Merit Chant – NBM Nuns led by Ayya Sunnata.
URL:https://www.bsv.net.au/events/history-of-buddhist-nuns/
LOCATION:Buddhaloka Centre\, 71 Darling Road\, Malvern East\, VIC\, 3145\, Australia
CATEGORIES:Dhamma Teaching Programs,Upcoming,Weekly
ATTACH;FMTTYPE=image/jpeg:https://www.bsv.net.au/wp-content/uploads/2021/01/History-of-Nuns.jpeg
END:VEVENT
END:VCALENDAR