BEGIN:VCALENDAR
VERSION:2.0
PRODID:-//Buddhist Society Of Victoria (BSV) - ECPv6.15.13//NONSGML v1.0//EN
CALSCALE:GREGORIAN
METHOD:PUBLISH
X-WR-CALNAME:Buddhist Society Of Victoria (BSV)
X-ORIGINAL-URL:https://www.bsv.net.au
X-WR-CALDESC:Events for Buddhist Society Of Victoria (BSV)
REFRESH-INTERVAL;VALUE=DURATION:PT1H
X-Robots-Tag:noindex
X-PUBLISHED-TTL:PT1H
BEGIN:VTIMEZONE
TZID:UTC
BEGIN:STANDARD
TZOFFSETFROM:+0000
TZOFFSETTO:+0000
TZNAME:UTC
DTSTART:20200101T000000
END:STANDARD
END:VTIMEZONE
BEGIN:VEVENT
DTSTART;TZID=UTC:20210104T193000
DTEND;TZID=UTC:20210104T210000
DTSTAMP:20260425T004457
CREATED:20210101T053625Z
LAST-MODIFIED:20210101T053625Z
UID:10000667-1609788600-1609794000@www.bsv.net.au
SUMMARY:Monday Night Meditation (Monastic Led) | Bhante Aranavihari
DESCRIPTION:Meditation is a calm approach of healing that increase productivity\, replenish attention\, solidify memories and encourage creativity. Mindfulness training has become more popular than ever in the last decade as a strategy to relieve stress\, anxiety and depression. Join us on Weekly Monday Night Meditation in Malvern East Buddhist Society of Victoria. \n  \n﻿﻿﻿﻿﻿﻿﻿﻿﻿﻿﻿﻿﻿﻿﻿﻿﻿\nMeditation is a calm approach of healing that increase productivity\, replenish attention\, solidify memories and encourage creativity. Mindfulness training has become more popular than ever in the last decade as a strategy to relieve stress\, anxiety and depression. Join us on online\, Live Dhamma Teaching .
URL:https://www.bsv.net.au/events/monday-night-meditation-monastic-led-bhante-aranavihari-5/
LOCATION:Victoria
CATEGORIES:Dhamma Teaching Programs,Upcoming,Weekly
ATTACH;FMTTYPE=image/png:https://www.bsv.net.au/wp-content/uploads/2020/03/o-dhamma-talks.png
END:VEVENT
END:VCALENDAR