BEGIN:VCALENDAR
VERSION:2.0
PRODID:-//Buddhist Society Of Victoria (BSV) - ECPv6.15.13//NONSGML v1.0//EN
CALSCALE:GREGORIAN
METHOD:PUBLISH
X-ORIGINAL-URL:https://www.bsv.net.au
X-WR-CALDESC:Events for Buddhist Society Of Victoria (BSV)
REFRESH-INTERVAL;VALUE=DURATION:PT1H
X-Robots-Tag:noindex
X-PUBLISHED-TTL:PT1H
BEGIN:VTIMEZONE
TZID:UTC
BEGIN:STANDARD
TZOFFSETFROM:+0000
TZOFFSETTO:+0000
TZNAME:UTC
DTSTART:20190101T000000
END:STANDARD
END:VTIMEZONE
BEGIN:VEVENT
DTSTART;TZID=UTC:20201127T200000
DTEND;TZID=UTC:20201128T210000
DTSTAMP:20260425T021333
CREATED:20201108T122107Z
LAST-MODIFIED:20201120T220630Z
UID:10000673-1606507200-1606597200@www.bsv.net.au
SUMMARY:Online Monthly Day Meditation Retreat - Nov 2020
DESCRIPTION:The monastics at Newbury Buddhist Monastery have now emerged from the three months Rains Retreat 2020. The three Bhantes from Bodhinyana (Bhantes Cittapalo\, Cunda and Bodhidhaja) will be returning to WA on 20 November and self-quarantining for 14 days before they can join the monastic community in WA. Bhantes Cunda and Bodhidhaja have offered to conduct the BSV Meditation Day on 27/28 November remotely from WA via Zoom. \nProgram \nTalks about Meditation & how to establish/grow Wholesome Habits\,Guided Meditations\, Personal Practice\, Q&A and Group Interviews. \nTimings: Friday 27 November 2020 8pm toSaturday 28 November 2020 9pmClick here to view the proposed timetable(All timings are in Melbourne-Time\, GMT+11) \nVenue: Online via Zoom (registration is required) \nSome information about how it will work \nOnce you have registered you will receive a confirmation email. Closer to the day\, you will also receive a final timetable (in PDF format) with active links to join the various meetings on offer and some more detailed information. \nAll the meditations in the “Digital Meditation Hall” are optional\, they will help with motivation\, and accountability and they will also provide a sense of community\, despite joining in from your homes. Participants will be able to sit together in a virtual space of silence across different locations and time zones. Please feel free to meditate by yourself without a screen in front of you and for a period of time suitable to your circumstances and disposition. \nThe “Group Interview” sessions are also optional. They will be limited to a smaller group of devices/people\, to keep them more personal. \nA Q&A session for all participants will be conducted on Saturday evening. You will be able to ask questions via a Google Form or via the Zoom chat function during the actual event. \nPlease only join if you have used Zoom before and are experienced. We will not be able to offer tech support prior or during the event\, as it is run by the monastics themselves. Thank you for your understanding. \nIf you are from a different time zone and cannot attend all the sessions\, no problem. We have enough capacity for many participants this time. \nRegistration \nIf you are interested to attend this online event\, please fill in the Google Form here to register. \nRegistrations will close on Thursday 26 November 2020 at 8pm (Melbourne-Time\, GMT+11). \n____________________________________________________________________________ \nNotes: \nYou have to be at least 18 years of age in order to attend BSV retreats. This is a BSV policy.This offer is free of charge. If you wish to donate to the BSV\, feel free to do so here.
URL:https://www.bsv.net.au/events/online-monthly-day-meditation-retreat-nov-2020/
LOCATION:Victoria
CATEGORIES:Retreats,Upcoming,Weekly
END:VEVENT
END:VCALENDAR